BEGIN:VCALENDAR
VERSION:2.0
PRODID:< http://www.open2c.de/ >
METHOD:PUBLISH
X-PUBLISHED-TTL:PT12H
BEGIN:VEVENT
CREATED:20260423T094604Z
LAST-MODIFIED:20260423T094805Z
DTSTAMP:20260424T124741Z
DTSTART;VALUE=DATE:20260430
CATEGORIES:Vorlesestunde
SUMMARY:"Trau dich\, kleiner Pinguin"- Bilderbuch-Vorlesen
DESCRIPTION:Inge Straub liest aus dem Bilderbuch "Trau dich\, kleiner Pingui
	n" von Steve Smallman.   Pippa hat vor vielen Dingen Angst - Schneestürm
	e\, Dunkelheit\, laute Geräusche ... Als ihr draufgängerischer Freund Perc
	y verschwindet\, nimmt sie allen Mut zusammen und geht ihn suchen ...   Te
	ilnahme für Kinder von 4 - 7 Jahren!    
LOCATION:Gemeindebücherei\, Rathausstr. 73
UID:f8e84815c9271dc008c53692d277b9a5@5258778b54e0836ade80236e648d8908
END:VEVENT
BEGIN:VEVENT
CREATED:20260423T094825Z
LAST-MODIFIED:20260423T095023Z
DTSTAMP:20260424T124741Z
DTSTART;VALUE=DATE:20260507
CATEGORIES:Vorlesestunde
SUMMARY:"Herr Konfetti"- Bilderbuch-Vorlesen
DESCRIPTION:Angelo Vulpio liest aus dem Bilderbuch "Herr Konfetti" von Susa
	nna Isern.   Sophia hat eine blühende Fantasie und erlebt mit ihrem unsi
	chtbaren Freund viele Abenteuer. Doch ihr Papa macht sich Sorgen\, dass sie
	 zu sehr in ihrer eigenen Welt lebt ...   Teilnahme für Kinder von 4 - 7
	 Jahren!    
LOCATION:Gemeindebücherei\, Rathausstr. 73
UID:0bdc5f0da1020f8f6a6a384750c40ef2@5258778b54e0836ade80236e648d8908
END:VEVENT
BEGIN:VEVENT
CREATED:20260410T145439Z
LAST-MODIFIED:20260410T145909Z
ORGANIZER:MAILTO:Telefon: 08131/991-30
DTSTAMP:20260424T124741Z
DTSTART;VALUE=DATE:20260518
CATEGORIES:Vorlesestunde
SUMMARY:"Sommer im Korb"- russische Kinderlesung
DESCRIPTION:Olga Bektemirova liest aus ihrem Kinderbuch "Sommer im Korb". 
	  Die Gedichte über die Natur\, Tiere und Familie werden auf Russisch vor
	getragen.   Groß und Klein ab 4 Jahren sind dazu herzlich eingeladen. De
	r Eintritt ist frei! Wir bitten um Anmeldung in der Gemeindebücherei.   
	Kontakt Telefon: 08131/991-30
LOCATION:Gemeindebücherei\, Rathausstr. 73
UID:ba5de27de12bedfb17b1907c663cfd1c@5258778b54e0836ade80236e648d8908
END:VEVENT
BEGIN:VEVENT
CREATED:20260423T095051Z
LAST-MODIFIED:20260423T095236Z
DTSTAMP:20260424T124741Z
DTSTART;VALUE=DATE:20260521
CATEGORIES:Vorlesestunde
SUMMARY:"Kleines Nashorn\, wo fährst du hin?"- Bilderbuch-Vorlesen
DESCRIPTION:Inge Straub liest aus dem Bilderbuch "Kleines Nashorn\, wo fähr
	st du hin?" von Meg McKinlay.   Das kleine Nashorn träumt davon\, die Wel
	t zu sehen. Also baut es sich ein Boot und fährt los ...   Teilnahme fü
	r Kinder von 4 - 7 Jahren!    
LOCATION:Gemeindebücherei\, Rathausstr. 73
UID:909c759f29d28d9b7a6e2ba3622fa82c@5258778b54e0836ade80236e648d8908
END:VEVENT
BEGIN:VEVENT
CREATED:20260423T095304Z
LAST-MODIFIED:20260423T095506Z
DTSTAMP:20260424T124741Z
DTSTART;VALUE=DATE:20260528
CATEGORIES:Vorlesestunde
SUMMARY:"Ibbe & Knut - Ein Boot für den Kaninchenkapitän"- Bilderbuch-Vorlesen
DESCRIPTION:Inge Straub liest aus dem Bilderbuch "Ibbe &amp\; Knut - Ein Boo
	t für den Kaninchenkapitän" von Kristina Scharmacher-Schreiber.   Knut 
	und Ibbe haben auf ihren Nordseeinseln alles\, was sie brauchen. Also\, fast
	 alles\, denn Knut möchte Kaptän werden und dafür braucht er ein Schiff.
	 Ein Boot wird angeschwemmt und Ibbe und Knut stechen in See\, um den Besit
	zer zu finden ...   Teilnahme für Kinder von 4 - 7 Jahren!    
LOCATION:Gemeindebücherei\, Rathausstr. 73
UID:d022739cac630a5fa8ce4ca6de418990@5258778b54e0836ade80236e648d8908
END:VEVENT
BEGIN:VEVENT
CREATED:20260423T095549Z
LAST-MODIFIED:20260423T095743Z
DTSTAMP:20260424T124741Z
DTSTART;VALUE=DATE:20260611
CATEGORIES:Vorlesestunde
SUMMARY:"Der kleine Hamster will nicht hamstern"- Bilderbuch-Vorlesen
DESCRIPTION:Inge Straub liest aus dem Bilderbuch "Der kleine Hamster will n
	icht hamstern" von Anne Hassel.   Es wird kälter\, die Nahrung wird knapp
	. Die Vorratskammer der Hamster ist voll. Doch der große Hamster sagt: "H
	amster müssen hamstern\, sonst sind sie keine Hamster."   Teilnahme für 
	Kinder von 4 - 7 Jahren!    
LOCATION:Gemeindebücherei\, Rathausstr. 73
UID:deb42306e5ce5675ce389fad68c3436b@5258778b54e0836ade80236e648d8908
END:VEVENT
END:VCALENDAR