BEGIN:VCALENDAR
VERSION:2.0
PRODID:< http://www.open2c.de/ >
METHOD:PUBLISH
X-PUBLISHED-TTL:PT12H
BEGIN:VEVENT
CREATED:20260414T113538Z
LAST-MODIFIED:20260414T113642Z
ORGANIZER;CN="Pfarrverband Karlsfeld"
DTSTAMP:20260423T131933Z
DTSTART;VALUE=DATE:20260502
CATEGORIES:Kirche
SUMMARY:Vorabendmesse in St. Josef
DESCRIPTION:KEINE Sonntagsmesse in St. Josef am 03.05.2026).  Organisator 
	Pfarrverband Karlsfeld
LOCATION:St. Josef
UID:52d5f945495e35113734b7d4d442282b@5258778b54e0836ade80236e648d8908
END:VEVENT
END:VCALENDAR