BEGIN:VCALENDAR
VERSION:2.0
PRODID:< http://www.open2c.de/ >
METHOD:PUBLISH
X-PUBLISHED-TTL:PT12H
BEGIN:VEVENT
CREATED:20260414T113344Z
LAST-MODIFIED:20260414T113421Z
ORGANIZER;CN="Pfarrverband Karlsfeld"
DTSTAMP:20260423T100301Z
DTSTART;VALUE=DATE:20260501
CATEGORIES:Kirche
SUMMARY:Erste Maiandacht in St. Josef
DESCRIPTION:Organisator Pfarrverband Karlsfeld
LOCATION:St. Josef
UID:32cd1f1030e3cdcd18cc2e8a969c99f3@5258778b54e0836ade80236e648d8908
END:VEVENT
END:VCALENDAR