BEGIN:VCALENDAR
VERSION:2.0
PRODID:< http://www.open2c.de/ >
METHOD:PUBLISH
X-PUBLISHED-TTL:PT12H
BEGIN:VEVENT
CREATED:20260414T112929Z
LAST-MODIFIED:20260414T113305Z
ORGANIZER;CN="Pfarrverband Karlsfeld"
DTSTAMP:20260424T125026Z
DTSTART;VALUE=DATE:20260501
CATEGORIES:Kirche
SUMMARY:Festmesse zu Hl. Maria\, Patronin des Landes Bayern in St. Anna
DESCRIPTION:Organisator Pfarrverband Karlsfeld
LOCATION:St. Anna
UID:a160bd785ddd1f8de6944d9f8f710fec@5258778b54e0836ade80236e648d8908
END:VEVENT
END:VCALENDAR