BEGIN:VCALENDAR
VERSION:2.0
PRODID:< http://www.open2c.de/ >
METHOD:PUBLISH
X-PUBLISHED-TTL:PT12H
BEGIN:VEVENT
CREATED:20260414T110121Z
LAST-MODIFIED:20260414T112037Z
ORGANIZER;CN="Heimatmuseum Karlsfeld e-V."
DTSTAMP:20260422T000637Z
DTSTART:20261004T140000Z
DTEND:20261004T170000Z
CATEGORIES:Ausstellungen
SUMMARY:Heimatmuseum: Dauerausstellung und Sonderausstellung: NaturWandel in Karlsfeld - Von den „Öden Gründen“ zur Kulturlandschaft
DESCRIPTION:Daueraussstellung:    Geschichte und Geschichten rund um Karl
	sfeld   Authentische Exponate seit der Gründung Karlsfelds Torfhütte\, G
	erätschaften zur Mooskultivierung Die Münchner Straße nach dem Siedlung
	splan von 1802 Aufbau von Wirtschaft und Verwaltung\, der "Alte Wirt" Schul
	e\, Kirchenmodelle und religiöses Brauchtum Herkunft bekannter Karlsfelder
	 aus den Ost-Gebieten Flucht und Vertreibung Erinnerungen an die verlorene
	 Heimat im Osten Erste Errungenschaften nach dem 2. Weltkrieg  Exponate a
	us Bad\, Waschküche\, Küche und Keller Leben in den 50er-Jahren Die Städt
	epartnerschaft mit Muro Lucano\, Italien Das Heimatmuseum Karlsfeld in der 
	Gartenstraße 6 ist an jedem 1. und 3. Sonntag im Monat geöffnet.   Eint
	rittspreis: 2 Euro.   Weitere Informationen finden Sie unter www.heimatmu
	seum-karlsfeld.de im Internet. Besuchen Sie uns auch auf facebook.com/Heim
	atmuseumKarlsfeld.    __________________________________________________
	__________________________________________________________________________
	__________________________________________________________________________
	________________________   Sonderausstellung:    Das Bild der St. Anna-
	Kirche und der ehemaligen Sparkasse\, links daneben\, zeigt die drastischen 
	Veränderungen\, denen die Naturlandschaft unserer Gemeinde seit vielen Jah
	ren ausgesetzt war und teilweise heute noch ist.   Aus einer menschenleer
	en\, unberührten Mooslandschaft wurde in dieser Zeit durch unermüdlichen 
	Arbeitseinsatz eine Kulturlandschaft mit Wohn- und Erholungsraum für mehr
	 als 20.000 Menschen.   Die Sonderausstellung dokumentiert\, wie seit der 
	Besiedelung vor circa 200 Jahren die Landschaft unserer Heimat an die Bed
	ürfnisse der Bewohner angepasst wurde. Für die ersten Siedler war die Ur
	barmachung der Moosgründe überlebenswichtig. Dazu mussten zur Entwässer
	ung der feuchten Wiesen und Äcker Gräben ausgehoben und Bäche begradigt
	 werden.   Später kam mit der Zunahme der Bautätigkeit für Straßen un
	d Häuser noch die Kiesgewinnung als Wirtschaftszweig hinzu. Die geologisc
	he Situation auf dem Gebiet der Gemeinde mit ihrer meterdicken Schottersch
	icht eignete sich dafür in besonderer Weise. Die Folge waren seit den 193
	0er Jahren Kiesgruben\, die sich wegen des hohen Grundwasserspiegels in Kar
	lsfeld in kürzester Zeit mit Wasser füllten und in Seen verwandelten.  
	 Zuletzt kam in den Nachkriegsjahren noch der massive Siedlungsdruck auf d
	as Gemeindegebiet hinzu\, als Tausende von Flüchtlingen und Vertriebenen a
	us den Lagern in der Umgebung sich in Karlsfeld mit seinen guten Arbeits- 
	und Verkehrsbedingungen niederlassen wollten. In den 50er Jahren wuchs die
	 Einwohnerzahl von 2.000 auf 6.600 und es wurden mehr als 30 neue Straßen
	 auf der grünen Wiese angelegt. Dieser Siedlungsdruck hält auf Grund der
	 günstigen Standortbedingungen in der Metropolregion München bis heute a
	n\, wo Karlsfeld mehr als 20.000 Einwohner zählt.   Abschließend themati
	siert die Ausstellung aber auch das Umdenken in der Gesellschaft in den le
	tzten 50 Jahren\, das unter anderem durch die Arbeit von Naturschutzorganis
	ationen und ökologisch orientierten Parteien ausgelöst und getrieben wur
	de. In der Realität zeigt sich dieser Trend durch die Ausweisung von Natu
	r- und Landschaftsschutzgebieten\, die Schaffung von Ausgleichsflächen und
	 Durchführung von Renaturierungen von Bächen. Alle Entwicklungsschritte 
	des Natur-Wandels in Karlsfeld werden mit Fotos\, Exponaten und Information
	en in der Ausstellung ausführlich dargestellt. Auch wird an das Wirken de
	s Karlsfelder Naturschützers Josef Koller erinnert.   Die offizielle Er
	öffnung ist am Internationalen Museumstag\, 17. Mai 2026\, um 14 Uhr. Die A
	usstellung wird dann bis zum Herbst immer am 1. und 3. Sonntag im Monat\, v
	on 14 bis 17 Uhr\, zusammen mit den Dauerausstellungen im Heimatmuseum Karl
	sfeld in der Gartenstraße 6 gezeigt. Die Besucher dürfen gespannt sein\, 
	über ‚NaturWandel in Karlsfeld – von den „Öden Gründen“ zur Kul
	turlandschaft‘. Organisator Heimatmuseum Karlsfeld e-V.
LOCATION:Heimatmuseum im Alten Rathaus\, Gartenstraße 6\, 85757 Karlsfeld
UID:a73a3fcefa369d4aa7cac9414cb2e994@5258778b54e0836ade80236e648d8908
END:VEVENT
BEGIN:VEVENT
CREATED:20260414T110141Z
LAST-MODIFIED:20260414T112049Z
ORGANIZER;CN="Heimatmuseum Karlsfeld e-V."
DTSTAMP:20260422T000637Z
DTSTART:20261018T140000Z
DTEND:20261018T170000Z
CATEGORIES:Ausstellungen
SUMMARY:Heimatmuseum: Dauerausstellung und Sonderausstellung: NaturWandel in Karlsfeld - Von den „Öden Gründen“ zur Kulturlandschaft
DESCRIPTION:Daueraussstellung:    Geschichte und Geschichten rund um Karl
	sfeld   Authentische Exponate seit der Gründung Karlsfelds Torfhütte\, G
	erätschaften zur Mooskultivierung Die Münchner Straße nach dem Siedlung
	splan von 1802 Aufbau von Wirtschaft und Verwaltung\, der "Alte Wirt" Schul
	e\, Kirchenmodelle und religiöses Brauchtum Herkunft bekannter Karlsfelder
	 aus den Ost-Gebieten Flucht und Vertreibung Erinnerungen an die verlorene
	 Heimat im Osten Erste Errungenschaften nach dem 2. Weltkrieg  Exponate a
	us Bad\, Waschküche\, Küche und Keller Leben in den 50er-Jahren Die Städt
	epartnerschaft mit Muro Lucano\, Italien Das Heimatmuseum Karlsfeld in der 
	Gartenstraße 6 ist an jedem 1. und 3. Sonntag im Monat geöffnet.   Eint
	rittspreis: 2 Euro.   Weitere Informationen finden Sie unter www.heimatmu
	seum-karlsfeld.de im Internet. Besuchen Sie uns auch auf facebook.com/Heim
	atmuseumKarlsfeld.    __________________________________________________
	__________________________________________________________________________
	__________________________________________________________________________
	________________________   Sonderausstellung:    Das Bild der St. Anna-
	Kirche und der ehemaligen Sparkasse\, links daneben\, zeigt die drastischen 
	Veränderungen\, denen die Naturlandschaft unserer Gemeinde seit vielen Jah
	ren ausgesetzt war und teilweise heute noch ist.   Aus einer menschenleer
	en\, unberührten Mooslandschaft wurde in dieser Zeit durch unermüdlichen 
	Arbeitseinsatz eine Kulturlandschaft mit Wohn- und Erholungsraum für mehr
	 als 20.000 Menschen.   Die Sonderausstellung dokumentiert\, wie seit der 
	Besiedelung vor circa 200 Jahren die Landschaft unserer Heimat an die Bed
	ürfnisse der Bewohner angepasst wurde. Für die ersten Siedler war die Ur
	barmachung der Moosgründe überlebenswichtig. Dazu mussten zur Entwässer
	ung der feuchten Wiesen und Äcker Gräben ausgehoben und Bäche begradigt
	 werden.   Später kam mit der Zunahme der Bautätigkeit für Straßen un
	d Häuser noch die Kiesgewinnung als Wirtschaftszweig hinzu. Die geologisc
	he Situation auf dem Gebiet der Gemeinde mit ihrer meterdicken Schottersch
	icht eignete sich dafür in besonderer Weise. Die Folge waren seit den 193
	0er Jahren Kiesgruben\, die sich wegen des hohen Grundwasserspiegels in Kar
	lsfeld in kürzester Zeit mit Wasser füllten und in Seen verwandelten.  
	 Zuletzt kam in den Nachkriegsjahren noch der massive Siedlungsdruck auf d
	as Gemeindegebiet hinzu\, als Tausende von Flüchtlingen und Vertriebenen a
	us den Lagern in der Umgebung sich in Karlsfeld mit seinen guten Arbeits- 
	und Verkehrsbedingungen niederlassen wollten. In den 50er Jahren wuchs die
	 Einwohnerzahl von 2.000 auf 6.600 und es wurden mehr als 30 neue Straßen
	 auf der grünen Wiese angelegt. Dieser Siedlungsdruck hält auf Grund der
	 günstigen Standortbedingungen in der Metropolregion München bis heute a
	n\, wo Karlsfeld mehr als 20.000 Einwohner zählt.   Abschließend themati
	siert die Ausstellung aber auch das Umdenken in der Gesellschaft in den le
	tzten 50 Jahren\, das unter anderem durch die Arbeit von Naturschutzorganis
	ationen und ökologisch orientierten Parteien ausgelöst und getrieben wur
	de. In der Realität zeigt sich dieser Trend durch die Ausweisung von Natu
	r- und Landschaftsschutzgebieten\, die Schaffung von Ausgleichsflächen und
	 Durchführung von Renaturierungen von Bächen. Alle Entwicklungsschritte 
	des Natur-Wandels in Karlsfeld werden mit Fotos\, Exponaten und Information
	en in der Ausstellung ausführlich dargestellt. Auch wird an das Wirken de
	s Karlsfelder Naturschützers Josef Koller erinnert.   Die offizielle Er
	öffnung ist am Internationalen Museumstag\, 17. Mai 2026\, um 14 Uhr. Die A
	usstellung wird dann bis zum Herbst immer am 1. und 3. Sonntag im Monat\, v
	on 14 bis 17 Uhr\, zusammen mit den Dauerausstellungen im Heimatmuseum Karl
	sfeld in der Gartenstraße 6 gezeigt. Die Besucher dürfen gespannt sein\, 
	über ‚NaturWandel in Karlsfeld – von den „Öden Gründen“ zur Kul
	turlandschaft‘. Organisator Heimatmuseum Karlsfeld e-V.
LOCATION:Heimatmuseum im Alten Rathaus\, Gartenstraße 6\, 85757 Karlsfeld
UID:41291cc1a92732d03a3043fe5c2726bf@5258778b54e0836ade80236e648d8908
END:VEVENT
BEGIN:VEVENT
CREATED:20251103T100726Z
LAST-MODIFIED:20251201T074052Z
ORGANIZER;CN="Gemeinde Karlsfeld"
DTSTAMP:20260422T000637Z
DTSTART;VALUE=DATE:20261023
CATEGORIES:Verschiedenes
SUMMARY:Musiktheaterabo 2026: TITANIC The Musical
DESCRIPTION:Erleben Sie die mitreißende Geschichte der Titanic in einer ei
	nzigartigen Inszenierung des Freien Landestheaters Bayern. Das preisgekrö
	nte Musical TITANIC erzählt die dramatische und emotionale Reise des ber
	ühmten „unsinkbaren“ Luxusliners\, dessen tragisches Schicksal auf der
	 Jungfernfahrt 1912 die Welt erschütterte. Es gibt nicht die bekannte Han
	dlung des gleichnamigen Films wieder\, sondern widmet sich mit bewegender M
	usik und gesprochenen Dialogen den individuellen Schicksalen der Passagier
	e - basierend auf historischen Personen und Zeugenberichten.   Das aufwen
	dige Bühnen- und Kostümbild lassen die majestätische Titanic in den Kö
	pfen der Zuschauer wiederauferstehen\, während die Handlung die tiefen men
	schlichen Geschichten erzählt\, die hinter der Katastrophe stehen. Vom gla
	nzvollen Anfang bis hin zur ergreifenden Schlussszene wird das Publikum in
	 die schicksalhafte Nacht hineingezogen\, in der die Titanic nach einem Zus
	ammenstoß mit einem Eisberg sank. Die Produktion bietet große Chorensemb
	les\, emotionale Soli\, eindrucksvolle Choreografien und eine Atmosphäre\, d
	ie den monumentalen Untergang des Schiffes eindrucksvoll darstellen. Doch 
	mehr als das Unglück selbst steht im Mittelpunkt des Musicals der unersch
	ütterliche Glaube an Liebe\, Hoffnung und das Streben nach einem besseren 
	Leben\, der alle Klassen und sozialen Schichten verbindet.   Neu: Buchen 
	Sie Ihr gesamtes Abo mit fünf hochkarätigen Stücken bis zum 23. Novembe
	r 2025. Nach der Zahlungsfrist am 23. November 2025 sind keine kompletten 
	Abos mehr für die Saison 2026 buchbar\, die Karten gehen dann ab dem 1. De
	zember 2025 in den Restkartenverkauf\, der ab der Saison 2026 über das Onl
	ine-Ticketportal Reservix läuft. Bei Fragen wenden Sie sich bitte an das 
	Sachgebiet Presse- und Öffentlichkeitsarbeit / Kultur unter den Telefonnu
	mmern: 08131/99-108 oder -176 oder per E-Mail an: presse@karlsfeld.de.   
	  Restkarten ab 1. Dezember 2025 online über das Online-Ticketportal Res
	ervix oder telefonisch über den Reservix-Kundenservice (Tel.: 0761 888499
	 99\, von 6 bis 22 Uhr\, auch an Wochenenden und Feiertagen) buchbar!    h
	ttps://www.reservix.de/tickets-titanic-the-musical-die-emotionale-reise-de
	s-beruehmten-unsinkbaren-luxusliners-in-karlsfeld-buergerhaus-am-23-10-202
	6/e2468383?utm_medium=referral&amp\;utm_source=dynamic&amp\;utm_campaign=dyn
	amic-prom-lb-o&amp\;utm_content=Gemeinde%20Karlsfeld%20(29441)   Organisat
	or Gemeinde Karlsfeld
LOCATION:Bürgerhaus\, Allacher Str. 1\, 85757 Karlsfeld
UID:6e9c3a38e900dc090d2d6089e93af4b7@5258778b54e0836ade80236e648d8908
END:VEVENT
BEGIN:VEVENT
CREATED:20251222T143256Z
LAST-MODIFIED:20251222T143336Z
ORGANIZER;CN="Siebenbürger Sachsen"
DTSTAMP:20260422T000637Z
DTSTART;VALUE=DATE:20261024
CATEGORIES:Verschiedenes
SUMMARY:Herbstball der Siebenbürger Sachsen
DESCRIPTION:Organisator Siebenbürger Sachsen
LOCATION:Bürgerhaus
UID:946a3c8a71ca89bdf39cc4b98c15ef37@5258778b54e0836ade80236e648d8908
END:VEVENT
BEGIN:VEVENT
CREATED:20251222T143408Z
LAST-MODIFIED:20251222T143440Z
ORGANIZER;CN="OFC Karlsfeld"
DTSTAMP:20260422T000637Z
DTSTART;VALUE=DATE:20261031
CATEGORIES:Fasching
SUMMARY:Halloween-Party OFC Karlsfeld
DESCRIPTION:Organisator OFC Karlsfeld
LOCATION:Bürgerhaus
UID:d7c0490668aac56a8a30dd3eb77b0a30@5258778b54e0836ade80236e648d8908
END:VEVENT
END:VCALENDAR