BEGIN:VCALENDAR
VERSION:2.0
PRODID:< http://www.open2c.de/ >
METHOD:PUBLISH
X-PUBLISHED-TTL:PT12H
BEGIN:VEVENT
CREATED:20260414T105950Z
LAST-MODIFIED:20260414T111942Z
ORGANIZER;CN="Heimatmuseum Karlsfeld e-V."
DTSTAMP:20260420T220714Z
DTSTART:20260802T140000Z
DTEND:20260802T170000Z
CATEGORIES:Ausstellungen
SUMMARY:Heimatmuseum: Dauerausstellung und Sonderausstellung: NaturWandel in Karlsfeld - Von den „Öden Gründen“ zur Kulturlandschaft
DESCRIPTION:Daueraussstellung:    Geschichte und Geschichten rund um Karl
	sfeld   Authentische Exponate seit der Gründung Karlsfelds Torfhütte\, G
	erätschaften zur Mooskultivierung Die Münchner Straße nach dem Siedlung
	splan von 1802 Aufbau von Wirtschaft und Verwaltung\, der "Alte Wirt" Schul
	e\, Kirchenmodelle und religiöses Brauchtum Herkunft bekannter Karlsfelder
	 aus den Ost-Gebieten Flucht und Vertreibung Erinnerungen an die verlorene
	 Heimat im Osten Erste Errungenschaften nach dem 2. Weltkrieg  Exponate a
	us Bad\, Waschküche\, Küche und Keller Leben in den 50er-Jahren Die Städt
	epartnerschaft mit Muro Lucano\, Italien Das Heimatmuseum Karlsfeld in der 
	Gartenstraße 6 ist an jedem 1. und 3. Sonntag im Monat geöffnet.   Eint
	rittspreis: 2 Euro.   Weitere Informationen finden Sie unter www.heimatmu
	seum-karlsfeld.de im Internet. Besuchen Sie uns auch auf facebook.com/Heim
	atmuseumKarlsfeld.    __________________________________________________
	__________________________________________________________________________
	__________________________________________________________________________
	________________________   Sonderausstellung:    Das Bild der St. Anna-
	Kirche und der ehemaligen Sparkasse\, links daneben\, zeigt die drastischen 
	Veränderungen\, denen die Naturlandschaft unserer Gemeinde seit vielen Jah
	ren ausgesetzt war und teilweise heute noch ist.   Aus einer menschenleer
	en\, unberührten Mooslandschaft wurde in dieser Zeit durch unermüdlichen 
	Arbeitseinsatz eine Kulturlandschaft mit Wohn- und Erholungsraum für mehr
	 als 20.000 Menschen.   Die Sonderausstellung dokumentiert\, wie seit der 
	Besiedelung vor circa 200 Jahren die Landschaft unserer Heimat an die Bed
	ürfnisse der Bewohner angepasst wurde. Für die ersten Siedler war die Ur
	barmachung der Moosgründe überlebenswichtig. Dazu mussten zur Entwässer
	ung der feuchten Wiesen und Äcker Gräben ausgehoben und Bäche begradigt
	 werden.   Später kam mit der Zunahme der Bautätigkeit für Straßen un
	d Häuser noch die Kiesgewinnung als Wirtschaftszweig hinzu. Die geologisc
	he Situation auf dem Gebiet der Gemeinde mit ihrer meterdicken Schottersch
	icht eignete sich dafür in besonderer Weise. Die Folge waren seit den 193
	0er Jahren Kiesgruben\, die sich wegen des hohen Grundwasserspiegels in Kar
	lsfeld in kürzester Zeit mit Wasser füllten und in Seen verwandelten.  
	 Zuletzt kam in den Nachkriegsjahren noch der massive Siedlungsdruck auf d
	as Gemeindegebiet hinzu\, als Tausende von Flüchtlingen und Vertriebenen a
	us den Lagern in der Umgebung sich in Karlsfeld mit seinen guten Arbeits- 
	und Verkehrsbedingungen niederlassen wollten. In den 50er Jahren wuchs die
	 Einwohnerzahl von 2.000 auf 6.600 und es wurden mehr als 30 neue Straßen
	 auf der grünen Wiese angelegt. Dieser Siedlungsdruck hält auf Grund der
	 günstigen Standortbedingungen in der Metropolregion München bis heute a
	n\, wo Karlsfeld mehr als 20.000 Einwohner zählt.   Abschließend themati
	siert die Ausstellung aber auch das Umdenken in der Gesellschaft in den le
	tzten 50 Jahren\, das unter anderem durch die Arbeit von Naturschutzorganis
	ationen und ökologisch orientierten Parteien ausgelöst und getrieben wur
	de. In der Realität zeigt sich dieser Trend durch die Ausweisung von Natu
	r- und Landschaftsschutzgebieten\, die Schaffung von Ausgleichsflächen und
	 Durchführung von Renaturierungen von Bächen. Alle Entwicklungsschritte 
	des Natur-Wandels in Karlsfeld werden mit Fotos\, Exponaten und Information
	en in der Ausstellung ausführlich dargestellt. Auch wird an das Wirken de
	s Karlsfelder Naturschützers Josef Koller erinnert.   Die offizielle Er
	öffnung ist am Internationalen Museumstag\, 17. Mai 2026\, um 14 Uhr. Die A
	usstellung wird dann bis zum Herbst immer am 1. und 3. Sonntag im Monat\, v
	on 14 bis 17 Uhr\, zusammen mit den Dauerausstellungen im Heimatmuseum Karl
	sfeld in der Gartenstraße 6 gezeigt. Die Besucher dürfen gespannt sein\, 
	über ‚NaturWandel in Karlsfeld – von den „Öden Gründen“ zur Kul
	turlandschaft‘. Organisator Heimatmuseum Karlsfeld e-V.
LOCATION:Heimatmuseum im Alten Rathaus\, Gartenstraße 6\, 85757 Karlsfeld
UID:518a5193bfe83f2b983a6d3c7bff0d4c@5258778b54e0836ade80236e648d8908
END:VEVENT
BEGIN:VEVENT
CREATED:20260413T122627Z
LAST-MODIFIED:20260413T122942Z
ORGANIZER;CN="KJR Dachau"
DTSTAMP:20260420T220714Z
DTSTART:20260803T000000Z
DTEND:20260814T000000Z
CATEGORIES:Kinder
SUMMARY:Mini-Karlsfeld
DESCRIPTION:Auch im Sommer 2026 heißt es wieder: „Mini Karlsfeld“ öff
	net seine Tore! Vom 03. bis 14. August veranstaltet das Jugendhaus Karlsfe
	ld das beliebte Sommerferienprogramm für Kinder im Grundschulalter\, die i
	n der Gemeinde Karlsfeld wohnen.Bei Mini-Karlsfeld erleben die Kinder abwe
	chslungsreiche Tage voller Spiel und Spaß – und gestalten ihren Feriena
	lltag ganz nach Lust und Laune selbst. Sie können zwischen spannenden Akt
	ionen und Angeboten wählen oder einfach entspannt im Planschbecken plansc
	hen\, malen\, kickern oder mit Freundinnen und Freunden den Sommer genießen
	.Auf dem Programm stehen kreative Workshops\, Ausflüge – zum Beispiel zu
	m Abenteuerspielplatz – und sportliche Aktivitäten wie Kinder-Yoga. Ver
	eine\, Gruppen und Einrichtungen aus Karlsfeld beteiligen sich mit tollen M
	itmachaktionen und laden die Kinder ein\, Neues auszuprobieren.Für das lei
	bliche Wohl ist ebenfalls gesorgt: Jeden Tag gibt es ein gemeinsames Mitta
	gessen\, bei dem alle zusammenkommen\, reden\, lachen und neue Freundschaften
	 schließen können.Ein buntes Sommererlebnis\, das begeistert und verbinde
	t – wir freuen uns auf viele kleine „Mini-Karlsfelder“!   Anmeldung
	 unter: www.unser-ferienprogramm.de/kjr-dachau.  Organisator KJR Dachau
LOCATION:Jugendhaus Karlsfeld
UID:535ebae5bc30c7b3fc35f69437753573@5258778b54e0836ade80236e648d8908
END:VEVENT
BEGIN:VEVENT
CREATED:20251215T135450Z
LAST-MODIFIED:20251215T135652Z
ORGANIZER;CN="TSV Eintracht Karlsfeld"
DTSTAMP:20260420T220714Z
DTSTART:20260805T000000Z
DTEND:20260809T000000Z
CATEGORIES:Sport
SUMMARY:TSV Eintracht Karlsfeld: Karlsfeld Open Manfred Teichmann Cup - Tennisturnier
DESCRIPTION:Organisator TSV Eintracht Karlsfeld
LOCATION:Tennisplätze - Jahnstraße
UID:191d36118c056596f5c40058d42f548e@5258778b54e0836ade80236e648d8908
END:VEVENT
BEGIN:VEVENT
CREATED:20260414T110022Z
LAST-MODIFIED:20260414T111956Z
ORGANIZER;CN="Heimatmuseum Karlsfeld e-V."
DTSTAMP:20260420T220714Z
DTSTART:20260816T140000Z
DTEND:20260816T170000Z
CATEGORIES:Ausstellungen
SUMMARY:Heimatmuseum: Dauerausstellung und Sonderausstellung: NaturWandel in Karlsfeld - Von den „Öden Gründen“ zur Kulturlandschaft
DESCRIPTION:Daueraussstellung:    Geschichte und Geschichten rund um Karl
	sfeld   Authentische Exponate seit der Gründung Karlsfelds Torfhütte\, G
	erätschaften zur Mooskultivierung Die Münchner Straße nach dem Siedlung
	splan von 1802 Aufbau von Wirtschaft und Verwaltung\, der "Alte Wirt" Schul
	e\, Kirchenmodelle und religiöses Brauchtum Herkunft bekannter Karlsfelder
	 aus den Ost-Gebieten Flucht und Vertreibung Erinnerungen an die verlorene
	 Heimat im Osten Erste Errungenschaften nach dem 2. Weltkrieg  Exponate a
	us Bad\, Waschküche\, Küche und Keller Leben in den 50er-Jahren Die Städt
	epartnerschaft mit Muro Lucano\, Italien Das Heimatmuseum Karlsfeld in der 
	Gartenstraße 6 ist an jedem 1. und 3. Sonntag im Monat geöffnet.   Eint
	rittspreis: 2 Euro.   Weitere Informationen finden Sie unter www.heimatmu
	seum-karlsfeld.de im Internet. Besuchen Sie uns auch auf facebook.com/Heim
	atmuseumKarlsfeld.    __________________________________________________
	__________________________________________________________________________
	__________________________________________________________________________
	________________________   Sonderausstellung:    Das Bild der St. Anna-
	Kirche und der ehemaligen Sparkasse\, links daneben\, zeigt die drastischen 
	Veränderungen\, denen die Naturlandschaft unserer Gemeinde seit vielen Jah
	ren ausgesetzt war und teilweise heute noch ist.   Aus einer menschenleer
	en\, unberührten Mooslandschaft wurde in dieser Zeit durch unermüdlichen 
	Arbeitseinsatz eine Kulturlandschaft mit Wohn- und Erholungsraum für mehr
	 als 20.000 Menschen.   Die Sonderausstellung dokumentiert\, wie seit der 
	Besiedelung vor circa 200 Jahren die Landschaft unserer Heimat an die Bed
	ürfnisse der Bewohner angepasst wurde. Für die ersten Siedler war die Ur
	barmachung der Moosgründe überlebenswichtig. Dazu mussten zur Entwässer
	ung der feuchten Wiesen und Äcker Gräben ausgehoben und Bäche begradigt
	 werden.   Später kam mit der Zunahme der Bautätigkeit für Straßen un
	d Häuser noch die Kiesgewinnung als Wirtschaftszweig hinzu. Die geologisc
	he Situation auf dem Gebiet der Gemeinde mit ihrer meterdicken Schottersch
	icht eignete sich dafür in besonderer Weise. Die Folge waren seit den 193
	0er Jahren Kiesgruben\, die sich wegen des hohen Grundwasserspiegels in Kar
	lsfeld in kürzester Zeit mit Wasser füllten und in Seen verwandelten.  
	 Zuletzt kam in den Nachkriegsjahren noch der massive Siedlungsdruck auf d
	as Gemeindegebiet hinzu\, als Tausende von Flüchtlingen und Vertriebenen a
	us den Lagern in der Umgebung sich in Karlsfeld mit seinen guten Arbeits- 
	und Verkehrsbedingungen niederlassen wollten. In den 50er Jahren wuchs die
	 Einwohnerzahl von 2.000 auf 6.600 und es wurden mehr als 30 neue Straßen
	 auf der grünen Wiese angelegt. Dieser Siedlungsdruck hält auf Grund der
	 günstigen Standortbedingungen in der Metropolregion München bis heute a
	n\, wo Karlsfeld mehr als 20.000 Einwohner zählt.   Abschließend themati
	siert die Ausstellung aber auch das Umdenken in der Gesellschaft in den le
	tzten 50 Jahren\, das unter anderem durch die Arbeit von Naturschutzorganis
	ationen und ökologisch orientierten Parteien ausgelöst und getrieben wur
	de. In der Realität zeigt sich dieser Trend durch die Ausweisung von Natu
	r- und Landschaftsschutzgebieten\, die Schaffung von Ausgleichsflächen und
	 Durchführung von Renaturierungen von Bächen. Alle Entwicklungsschritte 
	des Natur-Wandels in Karlsfeld werden mit Fotos\, Exponaten und Information
	en in der Ausstellung ausführlich dargestellt. Auch wird an das Wirken de
	s Karlsfelder Naturschützers Josef Koller erinnert.   Die offizielle Er
	öffnung ist am Internationalen Museumstag\, 17. Mai 2026\, um 14 Uhr. Die A
	usstellung wird dann bis zum Herbst immer am 1. und 3. Sonntag im Monat\, v
	on 14 bis 17 Uhr\, zusammen mit den Dauerausstellungen im Heimatmuseum Karl
	sfeld in der Gartenstraße 6 gezeigt. Die Besucher dürfen gespannt sein\, 
	über ‚NaturWandel in Karlsfeld – von den „Öden Gründen“ zur Kul
	turlandschaft‘. Organisator Heimatmuseum Karlsfeld e-V.
LOCATION:Heimatmuseum im Alten Rathaus\, Gartenstraße 6\, 85757 Karlsfeld
UID:4515987767f5a3b836ed2820c28b215e@5258778b54e0836ade80236e648d8908
END:VEVENT
BEGIN:VEVENT
CREATED:20260413T123035Z
LAST-MODIFIED:20260413T123255Z
ORGANIZER;CN="WestAllianz München"
DTSTAMP:20260420T220714Z
DTSTART:20260817T000000Z
DTEND:20260821T000000Z
CATEGORIES:Kinder
SUMMARY:WestAllianz Freizeit in Altenmünster vom 17.08.– 21.08.2026
DESCRIPTION:Bei der Jugendfreizeit der WestAllianz kannst du mit anderen Ju
	gendlichen von 10 bis 14 Jahren fünf abwechslungsreiche und spannende Tag
	e voller Spaß erleben. 2026 geht es erstmals zum Bruder-Klaus-Heim Violau
	 in Altenmünster. Dieses naturnahe Gelände bietet reichlich Platz für d
	ie unterschiedlichsten Abenteuer\, aber auch für Erholung im Grünen. Vor 
	Ort gibt es eine Sporthalle\, einen Spieleraum mit Tischtennis und Kicker\, 
	einen Fußballplatz\, Werkräume und Außen-Tischtennisanlagen. All das kan
	nst du nutzen\, und außerdem machen wir Bootsfahrten über den nahegelegen
	en See\, sind kreativ und backen selbst gemachte Pizza. Ergänzt wird das G
	anze durch Spiele- und Lagerfeuerabende\, einen Besuch von Bürgermeistern 
	der WestAllianz-Gemeinden und eine Party am letzten Abend\, als Abschluss u
	nserer gemeinsamen Woche.   Anmeldung unter: www.unser-ferienprogramm.de/
	kjr-dachau.  Organisator WestAllianz München
LOCATION:Altenmünster
UID:4bdbfd78195388c4930b3a0df43ea7b4@5258778b54e0836ade80236e648d8908
END:VEVENT
END:VCALENDAR