BEGIN:VCALENDAR
VERSION:2.0
PRODID:< http://www.open2c.de/ >
METHOD:PUBLISH
X-PUBLISHED-TTL:PT12H
BEGIN:VEVENT
CREATED:20260414T100813Z
LAST-MODIFIED:20260414T104940Z
ORGANIZER;CN="Parkinson – Selbsthilfegruppe (SHG) Karlsfeld-Dachau"
DTSTAMP:20260421T081822Z
DTSTART:20260504T110000Z
DTEND:20260504T163000Z
CATEGORIES:Selbsthilfegruppen
SUMMARY:Parkinsontreff: Präventionskurs „Resilienz Training in der Gruppe“
DESCRIPTION:„Wir sind nicht Opfer\, sondern Gestalter unseres Lebens“ un
	d „können auch im höheren Alter unser Gehirn\, unser Fühlen\, unser Den
	ken\, unser seelisches Befinden beeinflussen: auch bei Parkinson“. So  l
	autete unser Resümee aus den  Einführungsvorträgen zu dem Themenpaket 
	„Methoden zur Stärkung eigener Resilienz“ im vergangenen  Jahr. Resi
	lienz ist definiert als die Widerstandskraft gegen Herausforderungen und S
	chicksalsschläge.   Mit  einem  „Resilienztraining in der Gruppe“ 
	will der Parkonsintreff  zur Prävention von psychischen Erkrankungen und
	 Stabilisierung der seelischen Widerstandsfähigkeit befähigen.   Ulrike
	 Frank-Wilhelm\,  30 Jahre im Bildungswesen als Lehrerin tätig\, hat nach 
	einer gesundheitlichen Auszeit ihre Berufstätigkeit an der Schule aufgege
	ben  und  eine Ausbildung zum Resilienz-Coach absolviert. Sie arbeitet j
	etzt als Resilienz-Coach.  Für ihr Trainings Angebot gilt das Motto „F
	inde innere Stärke in herausfordernden Zeiten“.  In einem Gruppenkurs 
	wird mit  6-12 Teilnehmern über ca. zehn Wochen mit zehn Kurseinheiten\, 
	je 90 Minuten eine „Resilienz-Fähigkeit durch Achtsamkeit\, Selbstmitgef
	ühl sowie Selbstfürsorge“ geschaffen.   Die „Kurseinheiten“ werde
	n sowohl als ONLINE- als auch\, für weniger internetaffine Teilnehmer\, als
	 Präsenzveranstaltung im Bürgertreff Karlsfeld organisiert.    In eine
	r vertrauensvollen\, unterstützenden und ermutigenden Atmosphäre werden I
	nhalte vermittelt\, Erfahrungen besprochen und gemeinsam diskutiert. Der ho
	he Anteil von alltagstauglichen Übungen bietet echte Chancen für eine na
	chhaltige Stärkung.   Bei dem Angebot handelt es  sich um einen Präve
	ntionskurs nach §20 SGB V\,     Die Kursgebühr beträgt für alle zehn
	 Kurseinheiten je Teilnehmer 250 Euro. Die Kursgebühren für 12 Teilnehme
	r in Höhe von insgesamt 3000 Euro können ausnahmsweise aus Spendengelder
	n finanziert werden\, so dass für die 12 Teilnehmer keine Kosten entstehen
	.    Am Montag\, 4. Mai 2026\, 11.00 Uhr bis 15.30 Uhr wird im Bürgertref
	f Karlsfeld\, Rathausstraße 65\, das „Resilienz Training in der Gruppe“
	  mit Einführung in das Themengebiet  und der ersten Kurseinheit  erö
	ffnet.   Teil I  Für  alle  Mitglieder und Interessenten  (Großgrup
	pe) 11.00 - 11.45    Was ist Resilienz und wie hilft sie          
	 Bürgertreff             Frau Ulrike               
	             mir Alltag und Krisensituationen           
	                                  Frank-Wilhelm     
	                       zu meistern       11.45 
	-  12.00     Pause    Teil  II  Für alle als Kursteilnehmer Ange
	meldete (Kleingruppe mit maximal               12 Teilnehmern
	) 12.00 -  14.00     Start der ersten Kurseinheit          
	     Bürgertreff                Frau Ulrike       
	                                                 
	                                                 
	                         Frank-Wilhelm     Um Anmeldung fü
	r &lt\; den Teil 1     bei Karl Walter\, 01707325095 oder walter-karlsfe
	ld@t-online.de bis spätestens 30.04.2026 wird gebeten.   &lt\; den Teil 2
	 Gesamtkurs (10 Wochen) an  walter-karlsfeld@t-online.de   Frank-Wilhelm
	 will mit jedem angemeldeten Teilnehmer am Gesamtkurs vor dem Mai 2026 üb
	er  Festnetz oder ZOOM  ein Vorgespräch führen. Für die nachfolgenden
	 neun Kurseinheiten wird der Zeitplan nach Auswertung der Anmeldeformulare
	 festgelegt.  Jeder ONLINE-Teilnehmer sollte ausgestattet sein mit: 1 PC 
	mit Internetanschluss\, E-Mail-Adresse\, Drucker und Arbeitsraum  sowie aus
	reichenden PC-Kenntnissen (bei Bedarf wird ein ZOOM-Bedienungsseminar vor 
	Kursbeginn organisiert.) Wer selbst keine ONLINE-Verbindung schalten kann\,
	 hat die Möglichkeit mit der Kleingruppe im Bürgertreff teilzunehmen\, so
	llte dies aber bei der Anmeldung vermerken.   Der Parkinsontreff freut si
	ch auf rege Teilnahme sowie Nutzung der außergewöhnlichen Möglichkeit u
	nd bedankt sich jetzt schon bei Ulrike Frank für das für uns sehr förde
	rliche und wichtige Angebot!   Organisator Parkinson – Selbsthilfegrupp
	e (SHG) Karlsfeld-Dachau
LOCATION:Bürgertreff Karlsfeld\, Rathausstraße 65
UID:b8cec4649c697f9bf24c10a1263750fc@5258778b54e0836ade80236e648d8908
END:VEVENT
END:VCALENDAR