BEGIN:VCALENDAR
VERSION:2.0
PRODID:< http://www.open2c.de/ >
METHOD:PUBLISH
X-PUBLISHED-TTL:PT12H
BEGIN:VEVENT
CREATED:20260413T110808Z
LAST-MODIFIED:20260413T111227Z
ORGANIZER;CN="Leben Retten Karlsfeld e.V."
DTSTAMP:20260424T115315Z
DTSTART;VALUE=DATE:20260618
CATEGORIES:Verschiedenes
SUMMARY:Leben Retten - Reanimation und Defibrillator richtig anwenden
DESCRIPTION:Der Verein Leben Retten Karlsfeld e.V. bietet in Kooperation mi
	t der Volkshochschule Karlsfeld einen kompakten und praxisorientierten Kur
	s zur Wiederbelebung (Reanimation) an. Im Mittelpunkt steht das sichere Ha
	ndeln bei einem Herz-Kreislauf-Stillstand - mit besonderem Fokus auf die H
	erzdruckmassage und den Einsatz eines automatisierten externen Defibrillat
	ors (AED). Jährlich erleiden tausende Menschen in Deutschland einen plöt
	zlichen Herzstillstand. In diesen ersten Minuten entscheiden schnelles Erk
	ennen\, konsequente Herzdruckmassage und der frühzeitige Einsatz eines Def
	ibrillators über Leben und Tod. Genau hier setzt der Kurs an: Die Teilneh
	menden trainieren intensiv und realitätsnah die Abläufe der Reanimation 
	und den sicheren Umgang mit einem AED. Der Kurs ist auf maximal 15 Teilneh
	merinnen und Teilnehmer begrenzt\, um ausreichend Zeit für praktische Übu
	ngen und individuelle Anleitung zu gewährleisten. Vorkenntnisse sind nich
	t erforderlich.   Gebühr: kostenlos Termin: 18. Juni 2026 Ort: vhs-Semin
	arraum\, Am Finkenschlag 2\, 85757 Karlsfeld Dauer: Zwei Stunden / Beginn: 1
	9.00   Leben Retten Karlsfeld e.V. - Jede Minute zählt. Jede helfende Ha
	nd auch. Organisator Leben Retten Karlsfeld e.V.
LOCATION:vhs-Seminarraum\, Am Finkenschlag 2\, 85757 Karlsfeld
UID:50aa23d797eaca60f89561c856de4d6f@5258778b54e0836ade80236e648d8908
END:VEVENT
END:VCALENDAR