BEGIN:VCALENDAR
VERSION:2.0
PRODID:< http://www.open2c.de/ >
METHOD:PUBLISH
X-PUBLISHED-TTL:PT12H
BEGIN:VEVENT
CREATED:20260204T092606Z
LAST-MODIFIED:20260204T095513Z
ORGANIZER;CN="Gemeinde Karlsfeld\nVolkshochschule":MAILTO:info@vhs-karlsfeld.de \nwww.vhs-karlsfeld.de \n08131 / 900940
DTSTAMP:20260421T162555Z
DTSTART:20260421T170000Z
DTEND:20260421T183000Z
CATEGORIES:Verschiedenes
SUMMARY:Vhs Karlsfeld: Reparatur-Initiative Karlsfeld - Reparieren statt Wegwerfen
DESCRIPTION:Die Nachbarschaftshilfe und das Soziale Netzwerk und die Volksh
	ochschule Karlsfeld laden alle Bürger ein\, sich an einer neuen Reparatur-
	Initiative zu beteiligen. Ziel ist es\, gemeinsam defekte Gebrauchsgegenst
	ände zu reparieren\, statt sie wegzuwerfen. Damit wollen wir einen Beitrag
	 zum Umwelt- und Ressourcenschutz leisten\, aber auch das handwerkliche Wis
	sen in der Gemeinde fördern und den sozialen Austausch anregen. Die Repar
	atur-Initiativen wie zum Beispiel die sogenannten Repair-Cafés gibt es be
	reits in vielen Städten und auch einigen Landkreisgemeinden. Dort treffen
	 sich ehrenamtliche Helfer\, die über verschiedene Fertigkeiten verfügen\,
	 mit Besuchern\, die etwas zu reparieren haben. Ob es sich um Kleidung\, Mö
	bel\, Elektrogeräte oder andere Dinge handelt\, die Helfer versuchen\, gemei
	nsam mit den Besuchern eine Lösung zu finden.   Die Reparatur ist kosten
	los\, eine Anmeldung ist nicht erforderlich.   Wir treffen uns einmal im M
	onat jeweils am Dienstag von 17:00 bis 18:30 Uhr in der vhs Karlsfeld (Alt
	e Grundschule)\, Krenmoosstr. 50\, Raum 007.   Die Organisatoren freuen sic
	h auf viele spannende Reparatur-Projekte! Übrigens: Wenn Sie die Reparatu
	r-Initiative als Helfer unterstützen möchten\, schreiben Sie eine Mail an
	 info@vhs-karlsfeld.de oder an info@soziales-netzwerk-karlsfeld.de. Organi
	sator Gemeinde Karlsfeld Volkshochschule Kontakt info@vhs-karlsfeld.de www
	.vhs-karlsfeld.de 08131 / 900940
LOCATION:Volkshochschule\nKrenmoosstr. 50
UID:776a76b5957576d6791537c1847d2b9d@5258778b54e0836ade80236e648d8908
END:VEVENT
END:VCALENDAR