BEGIN:VCALENDAR
VERSION:2.0
PRODID:< http://www.open2c.de/ >
METHOD:PUBLISH
X-PUBLISHED-TTL:PT12H
BEGIN:VEVENT
CREATED:20251222T143627Z
LAST-MODIFIED:20251222T143646Z
ORGANIZER;CN="OFC Karlsfeld"
DTSTAMP:20260420T064938Z
DTSTART;VALUE=DATE:20270131
CATEGORIES:Fasching
SUMMARY:OFC Karlsfeld: 2. Kinderfaschingsball
DESCRIPTION:Organisator OFC Karlsfeld
LOCATION:Bürgerhaus
UID:5628a34a01f8f9bd97263a01bc82f6eb@5258778b54e0836ade80236e648d8908
END:VEVENT
END:VCALENDAR