BEGIN:VCALENDAR
VERSION:2.0
PRODID:< http://www.open2c.de/ >
METHOD:PUBLISH
X-PUBLISHED-TTL:PT12H
BEGIN:VEVENT
CREATED:20251222T141555Z
LAST-MODIFIED:20260420T094259Z
ORGANIZER;CN="Kornelius Voices"
DTSTAMP:20260421T162146Z
DTSTART;VALUE=DATE:20260424
CATEGORIES:Konzerte
SUMMARY:Kornelius Voices: Musik kennt keine Grenzen / Singen ohne Grenzen
DESCRIPTION:Hinweis: Beide Konzerte sind bereits ausgebucht. Reservierungen
	 sind nur noch über eine Warteliste möglich. Am Veranstaltungstag werden
	 zehn Minuten vor Beginn der Konzerte freigebliebene Restplätze auch ohne
	 Reservierung vergeben.   Mit neuen Ausdrucksmöglichkeiten und neuen Son
	gs starten die Kornelius Voices im April ihr nächstes Kapitel Chorgeschic
	hte. Die Workshops des letzten Jahres sind noch in Ohr und Gefühl\, die ne
	uen Songs sitzen\, das Konzertprogramm steht. Fehlt nur noch die offizielle
	 Bekanntgabe des Termins. Nach dem großen Erfolg 2025 wird es auch diesma
	l wieder zwei Termine geben: am 24. und 25. April. Und wie im letzten Jahr
	 ist es empfehlenswert\, vorher via Mail sein Kommen anzukündigen.   Was 
	aber erwartet die Konzertbesucher? Chorleiter Ingo von Bargen macht bei de
	r Beantwortung dieser Frage keinen Hehl aus seiner Begeisterung: „Ich ha
	be unser Programm `Singen ohne Grenzen‘ genannt\, weil Musik keine Grenze
	n kennt\, und wenn welche da sind\, dann kann man sie mit Musik überwinden.
	 Das habe ich so oft erlebt.“   Beispiele dafür kennen wir alle. Wenn 
	man am Abend nach einem vollen Arbeitstag nach Hause kommt und das Gefühl
	 hat\, an einer Energiegrenze angekommen zu sein\, füllt eine Chorprobe die
	 Speicher wieder auf\, die Grenze des „geht nicht mehr“ ist überwunden
	. Oder wenn man in ein fremdes Land reist und die Sprache nicht oder kaum 
	beherrsche\, kann eine bekannte Melodie die Menschen dennoch verbinden. So 
	wie viele Menschen es in Kirchen rund um den Globus erleben.   Ein gesung
	enes Halleluja öffnet in jeder Sprache Herzen und ein gemeinsam gebetetes
	 Vater-unser erkennen wir oft auch dann\, wenn wir die Sprache\, in der es g
	ebetet wird\, nicht verstehen.   Für dieses Über-alle-Grenzen-hinweg-Sin
	gen hat Ingo von Bargen in diesem Jahr Songs in acht verschiedenen Sprache
	n ausgesucht. „Mit Musik immer wieder neues Terrain zu erobern\, ist erst
	 eine Herausforderung. Aber wenn man sich der stellt\, wachsen einem Flüge
	l.“ Mit seiner Begeisterung hat er den Chor angesteckt. Fleißig und une
	rmüdlich haben alle gemeinsam die eigenen Sprachgrenzen überwunden. Da w
	urde Suaheli und Zulu geübt\, Schwedisch noch mal neu gelernt\, Spanisch un
	d Italienisch ausgegraben und Französisch weiter perfektioniert. Das Prog
	ramm – ein Leckerbissen\, da ist sich der Chorleiter sicher. Und es wird 
	wieder zwei neue eigene Songs geben. Auch da sind Grenzen überwunden word
	en. „Wir wollen nicht zu viel verraten\, aber wir haben wieder Neues gewa
	gt.“   Also\, seien Sie dabei am 24. April\, um 20 Uhr oder am 25. April\,
	 um 17 Uhr in der Korneliuskirche. Ihre Reservierungswünsche können Sie 
	richten an tickets@kornelius-voices.de. Der Eintritt ist wie immer frei. 
	  Organisator Kornelius Voices
LOCATION:Korneliuskirche
UID:ee9113ecd9f556ab6414d4e2d6132a00@5258778b54e0836ade80236e648d8908
END:VEVENT
END:VCALENDAR