BEGIN:VCALENDAR
VERSION:2.0
PRODID:< http://www.open2c.de/ >
METHOD:PUBLISH
X-PUBLISHED-TTL:PT12H
BEGIN:VEVENT
CREATED:20251222T130422Z
LAST-MODIFIED:20251222T130601Z
ORGANIZER;CN="Reservisten- und Kriegerkameradschaft Karlsfeld"
DTSTAMP:20260422T212901Z
DTSTART;VALUE=DATE:20260425
CATEGORIES:Vereine
SUMMARY:Reservisten- und Kriegerkameradschaft Karlsfeld: Beteiligung an der Aktion "Sauberes Karlsfeld"
DESCRIPTION:Organisator Reservisten- und Kriegerkameradschaft Karlsfeld
LOCATION:Treffpunkt westlicher Parkplatz am See um 08:00 Uhr.
UID:5598861cc972b86deb94cb9198917855@5258778b54e0836ade80236e648d8908
END:VEVENT
END:VCALENDAR