BEGIN:VCALENDAR
VERSION:1.0
PRODID:Open2CKalenderExportV11
BEGIN:VEVENT
DTSTAMP:20260423T095743Z
DTSTART:20260611T160000Z
DTEND:20260611T160000Z
CATEGORIES:Vorlesestunde
SUMMARY:"Der kleine Hamster will nicht hamstern"- Bilderbuch-Vorlesen
DESCRIPTION:Inge Straub liest aus dem Bilderbuch "Der kleine Hamster will nicht hamstern" von Anne Hassel. |   | Es wird kälter, die Nahrung wird knapp. Die Vorratskammer der Hamster ist voll. Doch der große Hamster sagt: "Hamster müssen hamstern, sonst sind sie keine Hamster." |   | Teilnahme für Kinder von 4 - 7 Jahren! |   |  
LOCATION:Gemeindebücherei, Rathausstr. 73
UID:6df0a4838752025c477429c35c266bb8-5d2e062f2c1eeedc8676bcd0558f6737
PRIORITY:3
END:VEVENT
END:VCALENDAR
