BEGIN:VCALENDAR
VERSION:1.0
PRODID:Open2CKalenderExportV11
BEGIN:VEVENT
DTSTAMP:20260423T095506Z
DTSTART:20260528T160000Z
DTEND:20260528T160000Z
CATEGORIES:Vorlesestunde
SUMMARY:"Ibbe & Knut - Ein Boot für den Kaninchenkapitän"- Bilderbuch-Vorlesen
DESCRIPTION:Inge Straub liest aus dem Bilderbuch "Ibbe &amp; Knut - Ein Boot für den Kaninchenkapitän" von Kristina Scharmacher-Schreiber. |   | Knut und Ibbe haben auf ihren Nordseeinseln alles, was sie \nauchen. Also, fast alles, denn Knut möchte Kaptän werden und dafür \naucht er ein Schiff. Ein Boot wird angeschwemmt und Ibbe und Knut stechen in See, um den Besitzer zu finden ... |   | Teilnahme für Kinder von 4 - 7 Jahren! |   |  
LOCATION:Gemeindebücherei, Rathausstr. 73
UID:622a4049347aa2da2efdf43be277aac7-79d3dce9a7c8453c856118b3a3bbb917
PRIORITY:3
END:VEVENT
END:VCALENDAR
