BEGIN:VCALENDAR
VERSION:1.0
PRODID:Open2CKalenderExportV11
BEGIN:VEVENT
DTSTAMP:20260423T095023Z
DTSTART:20260507T160000Z
DTEND:20260507T160000Z
CATEGORIES:Vorlesestunde
SUMMARY:"Herr Konfetti"- Bilderbuch-Vorlesen
DESCRIPTION:Angelo Vulpio liest aus dem Bilderbuch "Herr Konfetti" von Susanna Isern. |   | Sophia hat eine blühende Fantasie und erlebt mit ihrem unsichtbaren Freund viele Abenteuer. Doch ihr Papa macht sich Sorgen, dass sie zu sehr in ihrer eigenen Welt lebt ... |   | Teilnahme für Kinder von 4 - 7 Jahren! |   |  
LOCATION:Gemeindebücherei, Rathausstr. 73
UID:6fad14f69597f08320797df3a84f017f-73a715f21df2d9689e847abc3c2d5788
PRIORITY:3
END:VEVENT
END:VCALENDAR
