BEGIN:VCALENDAR
VERSION:1.0
PRODID:Open2CKalenderExportV11
BEGIN:VEVENT
DTSTAMP:20260414T114810Z
DTSTART:20260506T143000Z
DTEND:20260506T143000Z
CATEGORIES:Kirche
SUMMARY:Frauenbund Monatstreffen im Pfarrheim St. Josef
DESCRIPTION: | Organisator   Pfarrverband Karlsfeld
LOCATION:Pfarrheim St. Josef
UID:1e5a6790acb748914217a83244429ccf-c136c14d7ceda3b89c87f7c4bac9a964
PRIORITY:3
END:VEVENT
END:VCALENDAR
