BEGIN:VCALENDAR
VERSION:1.0
PRODID:Open2CKalenderExportV11
BEGIN:VEVENT
DTSTAMP:20260414T114512Z
DTSTART:20260604T090000Z
DTEND:20260604T090000Z
CATEGORIES:Kirche
SUMMARY:Festmesse zu Fronleichnam in St. Anna, anschl. Prozession nach St. Josef
DESCRIPTION: | Organisator   Pfarrverband Karlsfeld
LOCATION:St. Anna
UID:45760a92d69ef4a56128bb6074457e25-2e95569561e8ed8f024fc2965e146541
PRIORITY:3
END:VEVENT
END:VCALENDAR
