BEGIN:VCALENDAR
VERSION:1.0
PRODID:Open2CKalenderExportV11
BEGIN:VEVENT
DTSTAMP:20260414T113937Z
DTSTART:20260531T183000Z
DTEND:20260531T183000Z
CATEGORIES:Kirche
SUMMARY:Maiandacht in St. Anna
DESCRIPTION: | Organisator   Pfarrverband Karlsfeld
LOCATION:St. Anna
UID:6e65d1bf72d744a08fe8f654d8bda0f6-192a6421ba849665bf599f597a62cc71
PRIORITY:3
END:VEVENT
END:VCALENDAR
