BEGIN:VCALENDAR
VERSION:1.0
PRODID:Open2CKalenderExportV11
BEGIN:VEVENT
DTSTAMP:20260414T113642Z
DTSTART:20260502T180000Z
DTEND:20260502T180000Z
CATEGORIES:Kirche
SUMMARY:Vorabendmesse in St. Josef
DESCRIPTION:KEINE Sonntagsmesse in St. Josef am 03.05.2026).  | Organisator   Pfarrverband Karlsfeld
LOCATION:St. Josef
UID:7e3e7e5767478fed922b33d0d38bb8b1-fc817a7c1e9f1ae82a590ee34f4b0ea8
PRIORITY:3
END:VEVENT
END:VCALENDAR
