BEGIN:VCALENDAR
VERSION:1.0
PRODID:Open2CKalenderExportV11
BEGIN:VEVENT
DTSTAMP:20260414T113421Z
DTSTART:20260501T190000Z
DTEND:20260501T190000Z
CATEGORIES:Kirche
SUMMARY:Erste Maiandacht in St. Josef
DESCRIPTION: | Organisator   Pfarrverband Karlsfeld
LOCATION:St. Josef
UID:ae4834a5e6cc492c05f28fdb410fe1ff-9c29c2e0b76b4ab9fc00766717a4eab0
PRIORITY:3
END:VEVENT
END:VCALENDAR
