BEGIN:VCALENDAR
VERSION:1.0
PRODID:Open2CKalenderExportV11
BEGIN:VEVENT
DTSTAMP:20260414T113305Z
DTSTART:20260501T090000Z
DTEND:20260501T090000Z
CATEGORIES:Kirche
SUMMARY:Festmesse zu Hl. Maria, Patronin des Landes Bayern in St. Anna
DESCRIPTION: | Organisator   Pfarrverband Karlsfeld
LOCATION:St. Anna
UID:12c29f9060a25674d19e204981143e38-f03f7ab5fa7472884ab02b964e2beaac
PRIORITY:3
END:VEVENT
END:VCALENDAR
