BEGIN:VCALENDAR
VERSION:1.0
PRODID:Open2CKalenderExportV11
BEGIN:VEVENT
DTSTAMP:20260414T112037Z
DTSTART:20261004T140000Z
DTEND:20261004T170000Z
CATEGORIES:Ausstellungen
SUMMARY:Heimatmuseum: Dauerausstellung und Sonderausstellung: NaturWandel in Karlsfeld - Von den „Öden Gründen“ zur Kulturlandschaft
DESCRIPTION:Daueraussstellung:  |   | Geschichte und Geschichten rund um Karlsfeld |   |  | Authentische Exponate seit der Gründung Karlsfelds | Torfhütte, Gerätschaften zur Mooskultivierung | Die Münchner Straße nach dem Siedlungsplan von 1802 | Aufbau von Wirtschaft und Verwaltung, der "Alte Wirt" Schule, Kirchenmodelle und religiöses Brauchtum | Herkunft bekannter Karlsfelder aus den Ost-Gebieten | Flucht und Vertreibung | Erinnerungen an die verlorene Heimat im Osten | Erste Errungenschaften nach dem 2. Weltkrieg  | Exponate aus Bad, Waschküche, Küche und Keller | Leben in den 50er-Jahren | Die Städtepartnerschaft mit Muro Lucano, Italien |  | Das Heimatmuseum Karlsfeld in der Gartenstraße 6 ist an jedem 1. und 3. Sonntag im Monat geöffnet. |   | Eintrittspreis: 2 Euro. |   | Weitere Informationen finden Sie unter www.heimatmuseum-karlsfeld.de im Internet. Besuchen Sie uns auch auf facebook.com/HeimatmuseumKarlsfeld.  |   | ______________________________________________________________________________________________________________________________________________________________________________________________________________________________ |   | Sonderausstellung:  |   | Das Bild der St. Anna-Kirche und der ehemaligen Sparkasse, links daneben, zeigt die drastischen Veränderungen, denen die Naturlandschaft unserer Gemeinde seit vielen Jahren ausgesetzt war und teilweise heute noch ist. |   | Aus einer menschenleeren, unberührten Mooslandschaft wurde in dieser Zeit durch unermüdlichen Arbeitseinsatz eine Kulturlandschaft mit Wohn- und Erholungsraum für mehr als 20.000 Menschen. |   | Die Sonderausstellung dokumentiert, wie seit der Besiedelung vor circa 200 Jahren die Landschaft unserer Heimat an die Bedürfnisse der Bewohner angepasst wurde. | Für die ersten Siedler war die Urbarmachung der Moosgründe überlebenswichtig. Dazu mussten zur Entwässerung der feuchten Wiesen und Äcker Gräben ausgehoben und Bäche begradigt werden. |   | Später kam mit der Zunahme der Bautätigkeit für Straßen und Häuser noch die Kiesgewinnung als Wirtschaftszweig hinzu. Die geologische Situation auf dem Gebiet der Gemeinde mit ihrer meterdicken Schotterschicht eignete sich dafür in besonderer Weise. Die Folge waren seit den 1930er Jahren Kiesgruben, die sich wegen des hohen Grundwasserspiegels in Karlsfeld in kürzester Zeit mit Wasser füllten und in Seen verwandelten. |   | Zuletzt kam in den Nachkriegsjahren noch der massive Siedlungsdruck auf das Gemeindegebiet hinzu, als Tausende von Flüchtlingen und Vertriebenen aus den Lagern in der Umgebung sich in Karlsfeld mit seinen guten Arbeits- und Verkehrsbedingungen niederlassen wollten. In den 50er Jahren wuchs die Einwohnerzahl von 2.000 auf 6.600 und es wurden mehr als 30 neue Straßen auf der grünen Wiese angelegt. Dieser Siedlungsdruck hält auf Grund der günstigen Standortbedingungen in der Metropolregion München bis heute an, wo Karlsfeld mehr als 20.000 Einwohner zählt. |   | Abschließend thematisiert die Ausstellung aber auch das Umdenken in der Gesellschaft in den letzten 50 Jahren, das unter anderem durch die Arbeit von Naturschutzorganisationen und ökologisch orientierten Parteien ausgelöst und getrieben wurde. In der Realität zeigt sich dieser Trend durch die Ausweisung von Natur- und Landschaftsschutzgebieten, die Schaffung von Ausgleichsflächen und Durchführung von Renaturierungen von Bächen. | Alle Entwicklungsschritte des Natur-Wandels in Karlsfeld werden mit Fotos, Exponaten und Informationen in der Ausstellung ausführlich dargestellt. Auch wird an das Wirken des Karlsfelder Naturschützers Josef Koller erinnert. |   | Die offizielle Eröffnung ist am Internationalen Museumstag, 17. Mai 2026, um 14 Uhr.  | Die Ausstellung wird dann bis zum Herbst immer am 1. und 3. Sonntag im Monat, von 14 bis 17 Uhr, zusammen mit den Dauerausstellungen im Heimatmuseum Karlsfeld in der Gartenstraße 6 gezeigt. Die Besucher dürfen gespannt sein, über ‚NaturWandel in Karlsfeld – von den „Öden Gründen“ zur Kulturlandschaft‘. | Organisator   Heimatmuseum Karlsfeld e-V.
LOCATION:Heimatmuseum im Alten Rathaus, Gartenstraße 6, 85757 Karlsfeld
UID:373ec91ba76f88150ae6fd81c904c50f-d2393e11a4e2042aa7d741655342b956
PRIORITY:3
END:VEVENT
BEGIN:VEVENT
DTSTAMP:20260414T112049Z
DTSTART:20261018T140000Z
DTEND:20261018T170000Z
CATEGORIES:Ausstellungen
SUMMARY:Heimatmuseum: Dauerausstellung und Sonderausstellung: NaturWandel in Karlsfeld - Von den „Öden Gründen“ zur Kulturlandschaft
DESCRIPTION:Daueraussstellung:  |   | Geschichte und Geschichten rund um Karlsfeld |   |  | Authentische Exponate seit der Gründung Karlsfelds | Torfhütte, Gerätschaften zur Mooskultivierung | Die Münchner Straße nach dem Siedlungsplan von 1802 | Aufbau von Wirtschaft und Verwaltung, der "Alte Wirt" Schule, Kirchenmodelle und religiöses Brauchtum | Herkunft bekannter Karlsfelder aus den Ost-Gebieten | Flucht und Vertreibung | Erinnerungen an die verlorene Heimat im Osten | Erste Errungenschaften nach dem 2. Weltkrieg  | Exponate aus Bad, Waschküche, Küche und Keller | Leben in den 50er-Jahren | Die Städtepartnerschaft mit Muro Lucano, Italien |  | Das Heimatmuseum Karlsfeld in der Gartenstraße 6 ist an jedem 1. und 3. Sonntag im Monat geöffnet. |   | Eintrittspreis: 2 Euro. |   | Weitere Informationen finden Sie unter www.heimatmuseum-karlsfeld.de im Internet. Besuchen Sie uns auch auf facebook.com/HeimatmuseumKarlsfeld.  |   | ______________________________________________________________________________________________________________________________________________________________________________________________________________________________ |   | Sonderausstellung:  |   | Das Bild der St. Anna-Kirche und der ehemaligen Sparkasse, links daneben, zeigt die drastischen Veränderungen, denen die Naturlandschaft unserer Gemeinde seit vielen Jahren ausgesetzt war und teilweise heute noch ist. |   | Aus einer menschenleeren, unberührten Mooslandschaft wurde in dieser Zeit durch unermüdlichen Arbeitseinsatz eine Kulturlandschaft mit Wohn- und Erholungsraum für mehr als 20.000 Menschen. |   | Die Sonderausstellung dokumentiert, wie seit der Besiedelung vor circa 200 Jahren die Landschaft unserer Heimat an die Bedürfnisse der Bewohner angepasst wurde. | Für die ersten Siedler war die Urbarmachung der Moosgründe überlebenswichtig. Dazu mussten zur Entwässerung der feuchten Wiesen und Äcker Gräben ausgehoben und Bäche begradigt werden. |   | Später kam mit der Zunahme der Bautätigkeit für Straßen und Häuser noch die Kiesgewinnung als Wirtschaftszweig hinzu. Die geologische Situation auf dem Gebiet der Gemeinde mit ihrer meterdicken Schotterschicht eignete sich dafür in besonderer Weise. Die Folge waren seit den 1930er Jahren Kiesgruben, die sich wegen des hohen Grundwasserspiegels in Karlsfeld in kürzester Zeit mit Wasser füllten und in Seen verwandelten. |   | Zuletzt kam in den Nachkriegsjahren noch der massive Siedlungsdruck auf das Gemeindegebiet hinzu, als Tausende von Flüchtlingen und Vertriebenen aus den Lagern in der Umgebung sich in Karlsfeld mit seinen guten Arbeits- und Verkehrsbedingungen niederlassen wollten. In den 50er Jahren wuchs die Einwohnerzahl von 2.000 auf 6.600 und es wurden mehr als 30 neue Straßen auf der grünen Wiese angelegt. Dieser Siedlungsdruck hält auf Grund der günstigen Standortbedingungen in der Metropolregion München bis heute an, wo Karlsfeld mehr als 20.000 Einwohner zählt. |   | Abschließend thematisiert die Ausstellung aber auch das Umdenken in der Gesellschaft in den letzten 50 Jahren, das unter anderem durch die Arbeit von Naturschutzorganisationen und ökologisch orientierten Parteien ausgelöst und getrieben wurde. In der Realität zeigt sich dieser Trend durch die Ausweisung von Natur- und Landschaftsschutzgebieten, die Schaffung von Ausgleichsflächen und Durchführung von Renaturierungen von Bächen. | Alle Entwicklungsschritte des Natur-Wandels in Karlsfeld werden mit Fotos, Exponaten und Informationen in der Ausstellung ausführlich dargestellt. Auch wird an das Wirken des Karlsfelder Naturschützers Josef Koller erinnert. |   | Die offizielle Eröffnung ist am Internationalen Museumstag, 17. Mai 2026, um 14 Uhr.  | Die Ausstellung wird dann bis zum Herbst immer am 1. und 3. Sonntag im Monat, von 14 bis 17 Uhr, zusammen mit den Dauerausstellungen im Heimatmuseum Karlsfeld in der Gartenstraße 6 gezeigt. Die Besucher dürfen gespannt sein, über ‚NaturWandel in Karlsfeld – von den „Öden Gründen“ zur Kulturlandschaft‘. | Organisator   Heimatmuseum Karlsfeld e-V.
LOCATION:Heimatmuseum im Alten Rathaus, Gartenstraße 6, 85757 Karlsfeld
UID:b2fa2e645b82ccb7379122ab3a32d1d2-d2393e11a4e2042aa7d741655342b956
PRIORITY:3
END:VEVENT
BEGIN:VEVENT
DTSTAMP:20251201T074052Z
DTSTART:20261023T193000Z
DTEND:20261023T193000Z
CATEGORIES:Verschiedenes
SUMMARY:Musiktheaterabo 2026: TITANIC The Musical
DESCRIPTION:Erleben Sie die mitreißende Geschichte der Titanic in einer einzigartigen Inszenierung des Freien Landestheaters Bayern. Das preisgekrönte Musical TITANIC erzählt die dramatische und emotionale Reise des berühmten „unsinkbaren“ Luxusliners, dessen tragisches Schicksal auf der Jungfernfahrt 1912 die Welt erschütterte. Es gibt nicht die bekannte Handlung des gleichnamigen Films wieder, sondern widmet sich mit bewegender Musik und gesprochenen Dialogen den individuellen Schicksalen der Passagiere - basierend auf historischen Personen und Zeugenberichten. |   | Das aufwendige Bühnen- und Kostümbild lassen die majestätische Titanic in den Köpfen der Zuschauer wiederauferstehen, während die Handlung die tiefen menschlichen Geschichten erzählt, die hinter der Katastrophe stehen. Vom glanzvollen Anfang bis hin zur ergreifenden Schlussszene wird das Publikum in die schicksalhafte Nacht hineingezogen, in der die Titanic nach einem Zusammenstoß mit einem Eisberg sank. Die Produktion bietet große Chorensembles, emotionale Soli, eindrucksvolle Choreografien und eine Atmosphäre, die den monumentalen Untergang des Schiffes eindrucksvoll darstellen. Doch mehr als das Unglück selbst steht im Mittelpunkt des Musicals der unerschütterliche Glaube an Liebe, Hoffnung und das Streben nach einem besseren Leben, der alle Klassen und sozialen Schichten verbindet. |   | Neu: Buchen Sie Ihr gesamtes Abo mit fünf hochkarätigen Stücken bis zum 23. November 2025. Nach der Zahlungsfrist am 23. November 2025 sind keine kompletten Abos mehr für die Saison 2026 buchbar, die Karten gehen dann ab dem 1. Dezember 2025 in den Restkartenverkauf, der ab der Saison 2026 über das Online-Ticketportal Reservix läuft. Bei Fragen wenden Sie sich bitte an das Sachgebiet Presse- und Öffentlichkeitsarbeit / Kultur unter den Telefonnummern: 08131/99-108 oder -176 oder per E-Mail an: presse@karlsfeld.de.  |   |   | Restkarten ab 1. Dezember 2025 online über das Online-Ticketportal Reservix oder telefonisch über den Reservix-Kundenservice (Tel.: 0761 888499 99, von 6 bis 22 Uhr, auch an Wochenenden und Feiertagen) buchbar!  |   | https://www.reservix.de/tickets-titanic-the-musical-die-emotionale-reise-des-beruehmten-unsinkbaren-luxusliners-in-karlsfeld-buergerhaus-am-23-10-2026/e2468383?utm_medium=referral&amp;utm_source=dynamic&amp;utm_campaign=dynamic-prom-lb-o&amp;utm_content=Gemeinde%20Karlsfeld%20(29441) |   | Organisator   Gemeinde Karlsfeld
LOCATION:Bürgerhaus, Allacher Str. 1, 85757 Karlsfeld
UID:c5c4b67c65c4b580a2c367348c3578a5-dcf80b6aae565a1d0115560c7cbc5fe6
PRIORITY:3
END:VEVENT
BEGIN:VEVENT
DTSTAMP:20251222T143336Z
DTSTART:20261024T190000Z
DTEND:20261024T190000Z
CATEGORIES:Verschiedenes
SUMMARY:Herbstball der Siebenbürger Sachsen
DESCRIPTION: | Organisator   Siebenbürger Sachsen
LOCATION:Bürgerhaus
UID:889e22660413c30c092bf2024e3a5711-b89a915d3ca2c12aa2db4c0324c02a7f
PRIORITY:3
END:VEVENT
BEGIN:VEVENT
DTSTAMP:20251222T143440Z
DTSTART:20261031T200000Z
DTEND:20261031T200000Z
CATEGORIES:Fasching
SUMMARY:Halloween-Party OFC Karlsfeld
DESCRIPTION: | Organisator   OFC Karlsfeld
LOCATION:Bürgerhaus
UID:f107dd8c575f8897a4356fe34547773d-5d38a6b288c7dafd5a10d22383df7cb5
PRIORITY:3
END:VEVENT
END:VCALENDAR
