BEGIN:VCALENDAR
VERSION:1.0
PRODID:Open2CKalenderExportV11
BEGIN:VEVENT
DTSTAMP:20260414T112009Z
DTSTART:20260906T140000Z
DTEND:20260906T170000Z
CATEGORIES:Ausstellungen
SUMMARY:Heimatmuseum: Dauerausstellung und Sonderausstellung: NaturWandel in Karlsfeld - Von den „Öden Gründen“ zur Kulturlandschaft
DESCRIPTION:Daueraussstellung:  |   | Geschichte und Geschichten rund um Karlsfeld |   |  | Authentische Exponate seit der Gründung Karlsfelds | Torfhütte, Gerätschaften zur Mooskultivierung | Die Münchner Straße nach dem Siedlungsplan von 1802 | Aufbau von Wirtschaft und Verwaltung, der "Alte Wirt" Schule, Kirchenmodelle und religiöses Brauchtum | Herkunft bekannter Karlsfelder aus den Ost-Gebieten | Flucht und Vertreibung | Erinnerungen an die verlorene Heimat im Osten | Erste Errungenschaften nach dem 2. Weltkrieg  | Exponate aus Bad, Waschküche, Küche und Keller | Leben in den 50er-Jahren | Die Städtepartnerschaft mit Muro Lucano, Italien |  | Das Heimatmuseum Karlsfeld in der Gartenstraße 6 ist an jedem 1. und 3. Sonntag im Monat geöffnet. |   | Eintrittspreis: 2 Euro. |   | Weitere Informationen finden Sie unter www.heimatmuseum-karlsfeld.de im Internet. Besuchen Sie uns auch auf facebook.com/HeimatmuseumKarlsfeld.  |   | ______________________________________________________________________________________________________________________________________________________________________________________________________________________________ |   | Sonderausstellung:  |   | Das Bild der St. Anna-Kirche und der ehemaligen Sparkasse, links daneben, zeigt die drastischen Veränderungen, denen die Naturlandschaft unserer Gemeinde seit vielen Jahren ausgesetzt war und teilweise heute noch ist. |   | Aus einer menschenleeren, unberührten Mooslandschaft wurde in dieser Zeit durch unermüdlichen Arbeitseinsatz eine Kulturlandschaft mit Wohn- und Erholungsraum für mehr als 20.000 Menschen. |   | Die Sonderausstellung dokumentiert, wie seit der Besiedelung vor circa 200 Jahren die Landschaft unserer Heimat an die Bedürfnisse der Bewohner angepasst wurde. | Für die ersten Siedler war die Urbarmachung der Moosgründe überlebenswichtig. Dazu mussten zur Entwässerung der feuchten Wiesen und Äcker Gräben ausgehoben und Bäche begradigt werden. |   | Später kam mit der Zunahme der Bautätigkeit für Straßen und Häuser noch die Kiesgewinnung als Wirtschaftszweig hinzu. Die geologische Situation auf dem Gebiet der Gemeinde mit ihrer meterdicken Schotterschicht eignete sich dafür in besonderer Weise. Die Folge waren seit den 1930er Jahren Kiesgruben, die sich wegen des hohen Grundwasserspiegels in Karlsfeld in kürzester Zeit mit Wasser füllten und in Seen verwandelten. |   | Zuletzt kam in den Nachkriegsjahren noch der massive Siedlungsdruck auf das Gemeindegebiet hinzu, als Tausende von Flüchtlingen und Vertriebenen aus den Lagern in der Umgebung sich in Karlsfeld mit seinen guten Arbeits- und Verkehrsbedingungen niederlassen wollten. In den 50er Jahren wuchs die Einwohnerzahl von 2.000 auf 6.600 und es wurden mehr als 30 neue Straßen auf der grünen Wiese angelegt. Dieser Siedlungsdruck hält auf Grund der günstigen Standortbedingungen in der Metropolregion München bis heute an, wo Karlsfeld mehr als 20.000 Einwohner zählt. |   | Abschließend thematisiert die Ausstellung aber auch das Umdenken in der Gesellschaft in den letzten 50 Jahren, das unter anderem durch die Arbeit von Naturschutzorganisationen und ökologisch orientierten Parteien ausgelöst und getrieben wurde. In der Realität zeigt sich dieser Trend durch die Ausweisung von Natur- und Landschaftsschutzgebieten, die Schaffung von Ausgleichsflächen und Durchführung von Renaturierungen von Bächen. | Alle Entwicklungsschritte des Natur-Wandels in Karlsfeld werden mit Fotos, Exponaten und Informationen in der Ausstellung ausführlich dargestellt. Auch wird an das Wirken des Karlsfelder Naturschützers Josef Koller erinnert. |   | Die offizielle Eröffnung ist am Internationalen Museumstag, 17. Mai 2026, um 14 Uhr.  | Die Ausstellung wird dann bis zum Herbst immer am 1. und 3. Sonntag im Monat, von 14 bis 17 Uhr, zusammen mit den Dauerausstellungen im Heimatmuseum Karlsfeld in der Gartenstraße 6 gezeigt. Die Besucher dürfen gespannt sein, über ‚NaturWandel in Karlsfeld – von den „Öden Gründen“ zur Kulturlandschaft‘. | Organisator   Heimatmuseum Karlsfeld e-V.
LOCATION:Heimatmuseum im Alten Rathaus, Gartenstraße 6, 85757 Karlsfeld
UID:eb42eb89b413652774c2b271d75e4e2e-d2393e11a4e2042aa7d741655342b956
PRIORITY:3
END:VEVENT
BEGIN:VEVENT
DTSTAMP:20251222T131135Z
DTSTART:20260908T183000Z
DTEND:20260908T183000Z
CATEGORIES:Vereine
SUMMARY:Monatsversammlung der Reservisten- und Kriegerkameradschaft Karlsfeld
DESCRIPTION:Gäste mit sicherheitspolitischem Interesse sind willkommen. | Organisator   Reservisten- und Kriegerkameradschaft Karlsfeld
LOCATION:Gasthof "Zur Eiche"
UID:d3ad7fe156e0ee63e3ca41ea65b3946d-3aec91de39871f126e79f5fe8d607501
PRIORITY:3
END:VEVENT
BEGIN:VEVENT
DTSTAMP:20251222T132644Z
DTSTART:20260916T000000Z
DTEND:20260916T000000Z
CATEGORIES:Verschiedenes
SUMMARY:Energieberatung im Karlsfelder Rathaus
DESCRIPTION:Die Gemeinde Karlsfeld bietet in Kooperation mit der Ver\naucherzentrale Bayern unabhängige Energieberatungen im Rathaus für ihre Bürgerinnen und Bürger an. |   | Die Beratungen erfolgen in 45-minütigen Einzelsitzungen, so kann auf individuelle Fragen und Umstände eingegangen werden und eine tiefergreifende Beratung erfolgen. |   | Herr Bugert, als Energieberater der Ver\naucherzentrale Bayern, berät Sie neutral und unabhängig zu jeglichen Fragestellungen rund um das Thema Energie. | Die Energieberatung ist für Karlsfelder Bürgerinnen und Bürger kostenfrei. |   | Die Termine der Einzelsitzungen finden Sie in den Tabellen weiter unten. |   | Wenn Sie Interesse an einer Beratungsstunde haben melden Sie sich bitte bei der kostenlosen Terminhotline der Ver\naucherzentrale unter 0800 809 802 400 oder dem Rückrufservice der Ver\naucherzentrale Bayern unter https://www.ver\naucherzentrale.bayern/beratung-by/online-terminbuchung. |   | Alternativ können Sie sich per E-Mail unter klimaschutz@karlsfeld.de anmelden. |   | Bitte nennen Sie bei der Anmeldung Ihren gewünschten Termin/Zeitfenster, Ihren Namen und Kontaktdaten sowie die Themen, über die Sie gerne mit Herrn Bugert sprechen möchten. |   | Die Beratungen finden im Rathaus, Gartenstraße 7, im kleinen Besprechungszimmer (UG - bedingt barrierefrei) statt: Hierzu bitte das Rathaus durch den Haupteingang betreten, einmal das Foyer durchqueren und durch das rückwärtige Treppenhaus in das Untergeschoss gehen. Der Besprechungsraum befindet sich gleich nach der Glastüre auf der linken Seite (Hinweisschilder werden ange\nacht). |   | Weitere Informationen unter: Energieberatung - Gemeinde Karlsfeld im Landkreis Dachau |   | Organisator   Gemeinde Karlsfeld in Kooperation mit der Ver\naucherzentrale Bayern
LOCATION:Karlsfelder Rathaus
UID:4b49fb43b3ba8b2122bacaf6ab2414d7-7bbfdfdb7cd5efa312e162a1110a3932
PRIORITY:3
END:VEVENT
BEGIN:VEVENT
DTSTAMP:20251215T135753Z
DTSTART:20260920T000000Z
DTEND:20260920T000000Z
CATEGORIES:Sport
SUMMARY:TSV Eintracht Karlsfeld: 47. Karlsfelder Seelauf
DESCRIPTION: | Organisator   TSV Eintracht Karlsfeld
LOCATION:Sportpark Karlsfeld - Jahnstraße
UID:f10fe3bb8354754d107900d73aa43210-04497c6eb3ef8fc8b6b4d12e3ae9e240
PRIORITY:3
END:VEVENT
BEGIN:VEVENT
DTSTAMP:20260414T112024Z
DTSTART:20260920T140000Z
DTEND:20260920T170000Z
CATEGORIES:Ausstellungen
SUMMARY:Heimatmuseum: Dauerausstellung und Sonderausstellung: NaturWandel in Karlsfeld - Von den „Öden Gründen“ zur Kulturlandschaft
DESCRIPTION:Daueraussstellung:  |   | Geschichte und Geschichten rund um Karlsfeld |   |  | Authentische Exponate seit der Gründung Karlsfelds | Torfhütte, Gerätschaften zur Mooskultivierung | Die Münchner Straße nach dem Siedlungsplan von 1802 | Aufbau von Wirtschaft und Verwaltung, der "Alte Wirt" Schule, Kirchenmodelle und religiöses Brauchtum | Herkunft bekannter Karlsfelder aus den Ost-Gebieten | Flucht und Vertreibung | Erinnerungen an die verlorene Heimat im Osten | Erste Errungenschaften nach dem 2. Weltkrieg  | Exponate aus Bad, Waschküche, Küche und Keller | Leben in den 50er-Jahren | Die Städtepartnerschaft mit Muro Lucano, Italien |  | Das Heimatmuseum Karlsfeld in der Gartenstraße 6 ist an jedem 1. und 3. Sonntag im Monat geöffnet. |   | Eintrittspreis: 2 Euro. |   | Weitere Informationen finden Sie unter www.heimatmuseum-karlsfeld.de im Internet. Besuchen Sie uns auch auf facebook.com/HeimatmuseumKarlsfeld.  |   | ______________________________________________________________________________________________________________________________________________________________________________________________________________________________ |   | Sonderausstellung:  |   | Das Bild der St. Anna-Kirche und der ehemaligen Sparkasse, links daneben, zeigt die drastischen Veränderungen, denen die Naturlandschaft unserer Gemeinde seit vielen Jahren ausgesetzt war und teilweise heute noch ist. |   | Aus einer menschenleeren, unberührten Mooslandschaft wurde in dieser Zeit durch unermüdlichen Arbeitseinsatz eine Kulturlandschaft mit Wohn- und Erholungsraum für mehr als 20.000 Menschen. |   | Die Sonderausstellung dokumentiert, wie seit der Besiedelung vor circa 200 Jahren die Landschaft unserer Heimat an die Bedürfnisse der Bewohner angepasst wurde. | Für die ersten Siedler war die Urbarmachung der Moosgründe überlebenswichtig. Dazu mussten zur Entwässerung der feuchten Wiesen und Äcker Gräben ausgehoben und Bäche begradigt werden. |   | Später kam mit der Zunahme der Bautätigkeit für Straßen und Häuser noch die Kiesgewinnung als Wirtschaftszweig hinzu. Die geologische Situation auf dem Gebiet der Gemeinde mit ihrer meterdicken Schotterschicht eignete sich dafür in besonderer Weise. Die Folge waren seit den 1930er Jahren Kiesgruben, die sich wegen des hohen Grundwasserspiegels in Karlsfeld in kürzester Zeit mit Wasser füllten und in Seen verwandelten. |   | Zuletzt kam in den Nachkriegsjahren noch der massive Siedlungsdruck auf das Gemeindegebiet hinzu, als Tausende von Flüchtlingen und Vertriebenen aus den Lagern in der Umgebung sich in Karlsfeld mit seinen guten Arbeits- und Verkehrsbedingungen niederlassen wollten. In den 50er Jahren wuchs die Einwohnerzahl von 2.000 auf 6.600 und es wurden mehr als 30 neue Straßen auf der grünen Wiese angelegt. Dieser Siedlungsdruck hält auf Grund der günstigen Standortbedingungen in der Metropolregion München bis heute an, wo Karlsfeld mehr als 20.000 Einwohner zählt. |   | Abschließend thematisiert die Ausstellung aber auch das Umdenken in der Gesellschaft in den letzten 50 Jahren, das unter anderem durch die Arbeit von Naturschutzorganisationen und ökologisch orientierten Parteien ausgelöst und getrieben wurde. In der Realität zeigt sich dieser Trend durch die Ausweisung von Natur- und Landschaftsschutzgebieten, die Schaffung von Ausgleichsflächen und Durchführung von Renaturierungen von Bächen. | Alle Entwicklungsschritte des Natur-Wandels in Karlsfeld werden mit Fotos, Exponaten und Informationen in der Ausstellung ausführlich dargestellt. Auch wird an das Wirken des Karlsfelder Naturschützers Josef Koller erinnert. |   | Die offizielle Eröffnung ist am Internationalen Museumstag, 17. Mai 2026, um 14 Uhr.  | Die Ausstellung wird dann bis zum Herbst immer am 1. und 3. Sonntag im Monat, von 14 bis 17 Uhr, zusammen mit den Dauerausstellungen im Heimatmuseum Karlsfeld in der Gartenstraße 6 gezeigt. Die Besucher dürfen gespannt sein, über ‚NaturWandel in Karlsfeld – von den „Öden Gründen“ zur Kulturlandschaft‘. | Organisator   Heimatmuseum Karlsfeld e-V.
LOCATION:Heimatmuseum im Alten Rathaus, Gartenstraße 6, 85757 Karlsfeld
UID:98e179678c1a3aba28080fa10a98c3f6-d2393e11a4e2042aa7d741655342b956
PRIORITY:3
END:VEVENT
BEGIN:VEVENT
DTSTAMP:20251215T145651Z
DTSTART:20260927T084500Z
DTEND:20260927T101500Z
CATEGORIES:Verschiedenes
SUMMARY:Fisch- und Pflanzenbörse
DESCRIPTION:Die Fisch- und Pflanzenbörsen der Aquarienfreunde Dachau/Karlsfeld e.V. finden im Foyer des Bürgerhauses in Karlsfeld, Allacher Straße 1 statt. |   | Einlass ab 8.45 Uhr, Ende 10.15 Uhr; Der Eintritt ist frei. | Ca. 50 Becken vorhanden, Beckenmiete für Mitglieder 2,0 € pro Becken, für Nichtmitglieder 3,0 €. |   | Information unter: |   | Aquarienfreunde Dachau / Karlsfeld e.V. | Josef Lochner (1. Vorsitzender) |   | Tel.: 08131/79356 | E-Mail: sepp.lochner@t-online.de |   |   |   |   |   |   | Organisator   Aquarienfreunde Dachau / Karlsfeld
LOCATION:Bürgerhaus Foyer
UID:c39f2749c7c7bb2fc8079e7c0580f600-05e38274766df7f69968a17e5a471e13
PRIORITY:3
END:VEVENT
END:VCALENDAR
