BEGIN:VCALENDAR
VERSION:1.0
PRODID:Open2CKalenderExportV11
BEGIN:VEVENT
DTSTAMP:20260414T111358Z
DTSTART:20260503T140000Z
DTEND:20260503T170000Z
CATEGORIES:Ausstellungen
SUMMARY:Heimatmuseum: Dauerausstellung
DESCRIPTION:Geschichte und Geschichten rund um Karlsfeld |   |  | Authentische Exponate seit der Gründung Karlsfelds | Torfhütte, Gerätschaften zur Mooskultivierung | Die Münchner Straße nach dem Siedlungsplan von 1802 | Aufbau von Wirtschaft und Verwaltung, der "Alte Wirt" Schule, Kirchenmodelle und religiöses Brauchtum | Herkunft bekannter Karlsfelder aus den Ost-Gebieten | Flucht und Vertreibung | Erinnerungen an die verlorene Heimat im Osten | Erste Errungenschaften nach dem 2. Weltkrieg  | Exponate aus Bad, Waschküche, Küche und Keller | Leben in den 50er-Jahren | Die Städtepartnerschaft mit Muro Lucano, Italien |  | Das Heimatmuseum Karlsfeld in der Gartenstraße 6 ist an jedem 1. und 3. Sonntag im Monat geöffnet. |   | Eintrittspreis: 2 Euro. |   | Weitere Informationen finden Sie unter www.heimatmuseum-karlsfeld.de im Internet. Besuchen Sie uns auch auf facebook.com/HeimatmuseumKarlsfeld.  | Organisator   Heimatmuseum Karlsfeld e-V.
LOCATION:Heimatmuseum im Alten Rathaus, Gartenstraße 6, 85757 Karlsfeld
UID:83ce93320c4cf7f796d170c01544eaad-edfc11b7a7b95ef32c04e45d74640c85
PRIORITY:3
END:VEVENT
BEGIN:VEVENT
DTSTAMP:20260413T113945Z
DTSTART:20260509T140000Z
DTEND:20260509T140000Z
CATEGORIES:Vereine
SUMMARY:JTSC Karlsfeld:  Saisonabschluss mit Glanz und Leidenschaft – Große Tanzgala am 09. Mai 2026
DESCRIPTION:Der 1. Karlsfelder JTSC lädt herzlich zur großen Tanzgala anlässlich des Saisonabschlusses am 09. Mai 2026 ins Bürgerhaus Karlsfeld ein. Einlass ist ab 14.00 Uhr. Freuen Sie sich auf ein abwechslungsreiches und mitreißendes Programm: Von unseren jüngsten Basic-Gruppen, die mit viel Freude und Engagement ihre ersten Bühnenerfahrungen sammeln, bis hin zu unseren erfahrenen Turniergruppen, die mit Präzision, Ausdruck und beeindruckender Technik begeistern.  | Die Tanzgala ist nicht nur ein Rückblick auf die vergangenen Monate, sondern auch eine Feier der Gemeinschaft, der Leidenschaft für den Tanz und der vielen gemeinsamen Erlebnisse. Familien, Freunde sowie alle Tanzbegeisterten aus der Region sind herzlich eingeladen, diesen besonderen Nachmittag mit uns zu ver\ningen. |   | Tickets sind online über www.eventfrog.de/jtsc-tanzgala ab 27. April 2026, um 20 Uhr erhältlich. |   | Lassen Sie sich von der Vielfalt der Tanzstile, der Kreativität der Choreografien und der Begeisterung unserer Tänzerinnen mitreißen und genießen Sie einen unvergesslichen Tag voller Emotionen und Bewegung. | Organisator   1. JTSC Karlsfeld
LOCATION:Bürgerhaus
UID:b8c1bf76aea7489556d1192cb073a6a9-c10e3408c08696f297a094eb8234d7e5
PRIORITY:3
END:VEVENT
BEGIN:VEVENT
DTSTAMP:20260413T114449Z
DTSTART:20260516T000000Z
DTEND:20260516T000000Z
CATEGORIES:Konzerte
SUMMARY:FiftySevenFestival
DESCRIPTION:Am 16. Mai 2026 findet zum dritten Mal das FünfSieben Festival rund um das Jugendhaus Karlsfeld statt. Das Besondere: Das Festival wird von Jugendlichen für Jugendliche organisiert. |   | Das FünfSieben Festival ist ein einzigartiges Projekt, das von Jugendlichen für Jugendliche konzipiert und umgesetzt wird. Hier steht nicht der Kommerz, sondern die gemeinsame Leidenschaft für Musik, Kultur und Engagement im Vordergrund. Das Orga-Team – bestehend aus jungen Menschen zwischen 13 und 30 Jahren – trifft alle wichtigen Entscheidungen selbst: Welche Bands auf die Bühne kommen, wie das Gelände gestaltet wird und was den Festivaltag besonders macht. |   | Dieses Jahr stehen auf der Main Stage Tjark, Dilla und Carlo5 auf der Bühne. Tickets hierfür gibt es schon ab 12 Euro, um allen den Zugang zu ermöglichen. Außerdem bietet das Festival eine große kostenlose Area mit einer Jugendbühne, auf der Nachwuchskünstler die Chance haben, vor einem größeren Publikum aufzutreten. |   | Das Festival ist mehr als nur ein Event – es ist ein Ort, an dem junge Menschen aktiv mitgestalten, Verantwortung übernehmen und zeigen, was entsteht, wenn Engagement, Musik und Kreativität aufeinandertreffen. Wer Lust hat, hinter die Kulissen zu blicken oder selbst Teil des Teams zu werden, ist herzlich willkommen! |   | Tickets und weitere Infos unter: www.57festival.de. |   | _______________________________________________________________________________________________________________________________________________________ |   | Helferinnen und Helfer gesucht fürs 57 Festival |   | Du hast Lust, Teil unserer ehrenamtlichen, jungen Festivalcrew zu werden? Dann checke die Helferliste, welcher Bereich dich interessiert. Wenn du eine oder mehrere Schichten übernehmen willst, dann trage dich ein und sei dabei! Die Crew bekommt: Festivalshirt, kostenlosen Eintritt vor und nach deiner Schicht, Essens- und Getränkemarken und eine Crew-Party nach dem Festival. Main Acts am Festival sind: Tjark, Dilla, Carlo5. |   | Falls du noch Fragen hast, dann wende dich an Anna: anna.bauregger@kjr-dachau.de. |   | Jetzt in der Helferliste eintragen unter www.57festival.de. | Organisator   KJR
LOCATION:Jugendzentrum
UID:3c82c34f2991a8650ad4f1590aa1702b-f03274e7119704044e3cdd2b4e323732
PRIORITY:3
END:VEVENT
BEGIN:VEVENT
DTSTAMP:20260414T111822Z
DTSTART:20260517T140000Z
DTEND:20260517T170000Z
CATEGORIES:Ausstellungen
SUMMARY:Heimatmuseum: Dauerausstellung und Sonderausstellung: NaturWandel in Karlsfeld - Von den „Öden Gründen“ zur Kulturlandschaft
DESCRIPTION:Daueraussstellung:  |   | Geschichte und Geschichten rund um Karlsfeld |   |  | Authentische Exponate seit der Gründung Karlsfelds | Torfhütte, Gerätschaften zur Mooskultivierung | Die Münchner Straße nach dem Siedlungsplan von 1802 | Aufbau von Wirtschaft und Verwaltung, der "Alte Wirt" Schule, Kirchenmodelle und religiöses Brauchtum | Herkunft bekannter Karlsfelder aus den Ost-Gebieten | Flucht und Vertreibung | Erinnerungen an die verlorene Heimat im Osten | Erste Errungenschaften nach dem 2. Weltkrieg  | Exponate aus Bad, Waschküche, Küche und Keller | Leben in den 50er-Jahren | Die Städtepartnerschaft mit Muro Lucano, Italien |  | Das Heimatmuseum Karlsfeld in der Gartenstraße 6 ist an jedem 1. und 3. Sonntag im Monat geöffnet. |   | Eintrittspreis: 2 Euro. |   | Weitere Informationen finden Sie unter www.heimatmuseum-karlsfeld.de im Internet. Besuchen Sie uns auch auf facebook.com/HeimatmuseumKarlsfeld.  |   | ______________________________________________________________________________________________________________________________________________________________________________________________________________________________ |   | Sonderausstellung:  |   | Das Bild der St. Anna-Kirche und der ehemaligen Sparkasse, links daneben, zeigt die drastischen Veränderungen, denen die Naturlandschaft unserer Gemeinde seit vielen Jahren ausgesetzt war und teilweise heute noch ist. |   | Aus einer menschenleeren, unberührten Mooslandschaft wurde in dieser Zeit durch unermüdlichen Arbeitseinsatz eine Kulturlandschaft mit Wohn- und Erholungsraum für mehr als 20.000 Menschen. |   | Die Sonderausstellung dokumentiert, wie seit der Besiedelung vor circa 200 Jahren die Landschaft unserer Heimat an die Bedürfnisse der Bewohner angepasst wurde. | Für die ersten Siedler war die Urbarmachung der Moosgründe überlebenswichtig. Dazu mussten zur Entwässerung der feuchten Wiesen und Äcker Gräben ausgehoben und Bäche begradigt werden. |   | Später kam mit der Zunahme der Bautätigkeit für Straßen und Häuser noch die Kiesgewinnung als Wirtschaftszweig hinzu. Die geologische Situation auf dem Gebiet der Gemeinde mit ihrer meterdicken Schotterschicht eignete sich dafür in besonderer Weise. Die Folge waren seit den 1930er Jahren Kiesgruben, die sich wegen des hohen Grundwasserspiegels in Karlsfeld in kürzester Zeit mit Wasser füllten und in Seen verwandelten. |   | Zuletzt kam in den Nachkriegsjahren noch der massive Siedlungsdruck auf das Gemeindegebiet hinzu, als Tausende von Flüchtlingen und Vertriebenen aus den Lagern in der Umgebung sich in Karlsfeld mit seinen guten Arbeits- und Verkehrsbedingungen niederlassen wollten. In den 50er Jahren wuchs die Einwohnerzahl von 2.000 auf 6.600 und es wurden mehr als 30 neue Straßen auf der grünen Wiese angelegt. Dieser Siedlungsdruck hält auf Grund der günstigen Standortbedingungen in der Metropolregion München bis heute an, wo Karlsfeld mehr als 20.000 Einwohner zählt. |   | Abschließend thematisiert die Ausstellung aber auch das Umdenken in der Gesellschaft in den letzten 50 Jahren, das unter anderem durch die Arbeit von Naturschutzorganisationen und ökologisch orientierten Parteien ausgelöst und getrieben wurde. In der Realität zeigt sich dieser Trend durch die Ausweisung von Natur- und Landschaftsschutzgebieten, die Schaffung von Ausgleichsflächen und Durchführung von Renaturierungen von Bächen. | Alle Entwicklungsschritte des Natur-Wandels in Karlsfeld werden mit Fotos, Exponaten und Informationen in der Ausstellung ausführlich dargestellt. Auch wird an das Wirken des Karlsfelder Naturschützers Josef Koller erinnert. |   | Die offizielle Eröffnung ist am Internationalen Museumstag, 17. Mai 2026, um 14 Uhr.  | Die Ausstellung wird dann bis zum Herbst immer am 1. und 3. Sonntag im Monat, von 14 bis 17 Uhr, zusammen mit den Dauerausstellungen im Heimatmuseum Karlsfeld in der Gartenstraße 6 gezeigt. Die Besucher dürfen gespannt sein, über ‚NaturWandel in Karlsfeld – von den „Öden Gründen“ zur Kulturlandschaft‘. | Organisator   Heimatmuseum Karlsfeld e-V.
LOCATION:Heimatmuseum im Alten Rathaus, Gartenstraße 6, 85757 Karlsfeld
UID:84669da1790a343186260ea929678811-d2393e11a4e2042aa7d741655342b956
PRIORITY:3
END:VEVENT
BEGIN:VEVENT
DTSTAMP:20260410T145909Z
DTSTART:20260518T160000Z
DTEND:20260518T160000Z
CATEGORIES:Vorlesestunde
SUMMARY:"Sommer im Korb"- russische Kinderlesung
DESCRIPTION:Olga Bektemirova liest aus ihrem Kinderbuch "Sommer im Korb". |   | Die Gedichte über die Natur, Tiere und Familie werden auf Russisch vorgetragen. |   | Groß und Klein ab 4 Jahren sind dazu herzlich eingeladen. Der Eintritt ist frei! | Wir bitten um Anmeldung in der Gemeindebücherei. |   | Kontakt   Telefon: 08131/991-30
LOCATION:Gemeindebücherei, Rathausstr. 73
UID:fcc0c1cfb5eea659a2d95157d0abf041-72cd304d2a8dc2d71baffb87c712b598
PRIORITY:3
END:VEVENT
BEGIN:VEVENT
DTSTAMP:20251222T134802Z
DTSTART:20260520T100000Z
DTEND:20260520T100000Z
CATEGORIES:Führungen
SUMMARY:Seniorenbeirat: Führung durch das Luftfahrtmuseum
DESCRIPTION:Anmeldung bis zum 11.05.2025 erforderlich unter Telefon: 08131/96625. | Organisator   Seniorenbeirat Karlsfeld
LOCATION:Oberschleißheim
UID:46417223fe5705eb3b6813183ff8b7b8-7e564b3d3863b241eebb9538c3dc520f
PRIORITY:3
END:VEVENT
END:VCALENDAR
