BEGIN:VCALENDAR
VERSION:1.0
PRODID:Open2CKalenderExportV11
BEGIN:VEVENT
DTSTAMP:20260413T133012Z
DTSTART:20260505T160000Z
DTEND:20260505T160000Z
CATEGORIES:Vorträge
SUMMARY:VdK: Informationsnachmittag für seheingeschränkte Menschen und ihre Angehörigen
DESCRIPTION:Informationsnachmittag für seheingeschränkte Menschen und ihre Angehörigen durch Stefanie Freitag, am Dienstag, 5. Mai 2026, 16 Uhr, im Bürgertreff Karlsfeld, Rathausstr. 65 |   | Das Beratungsangebot „Blickpunkt Auge – Rat und Hilfe bei Sehverlust“ lädt am 5. Mai 2026 zu einer Informationsveranstaltung für Menschen ein, die neu von einer Sehverschlechterung oder einem Sehverlust betroffen sind. |   | Auf dem Programm stehen: |   | - Informationen zum Bayerischen Blinden- und Sehbehindertenbund (BBSB e.V.) | - Vorstellung von Alltagshilfsmitteln | - Wissenswertes zu unterschiedlichen Augenerkrankungen |   | Vortrag am Dienstag, den 5. Mai 2026, um 16.00 Uhr (Einlass 15.30 Uhr), im Bürgertreff Karlsfeld, Rathausstr. 65. |   | Für VdK-Mitglieder und interessierte Bürger. Der Zugang ist barrierefrei, die Teilnahme kostenlos, eine Anmeldung ist nicht erforderlich. | Organisator   Sozialverband VdK Bayern e.V. Ortsverband Karlsfeld
LOCATION:Bürgertreff Karlsfeld, Rathausstr. 65
UID:10a49f89fc2d1f268b240384e4de37f4-e9df607482e749f9d7104c9ed58bfe03
PRIORITY:3
END:VEVENT
END:VCALENDAR
