BEGIN:VCALENDAR
VERSION:1.0
PRODID:Open2CKalenderExportV11
BEGIN:VEVENT
DTSTAMP:20260413T111227Z
DTSTART:20260618T190000Z
DTEND:20260618T190000Z
CATEGORIES:Verschiedenes
SUMMARY:Leben Retten - Reanimation und Defibrillator richtig anwenden
DESCRIPTION:Der Verein Leben Retten Karlsfeld e.V. bietet in Kooperation mit der Volkshochschule Karlsfeld einen kompakten und praxisorientierten Kurs zur Wiederbelebung (Reanimation) an. Im Mittelpunkt steht das sichere Handeln bei einem Herz-Kreislauf-Stillstand - mit besonderem Fokus auf die Herzdruckmassage und den Einsatz eines automatisierten externen Defi\nillators (AED). Jährlich erleiden tausende Menschen in Deutschland einen plötzlichen Herzstillstand. In diesen ersten Minuten entscheiden schnelles Erkennen, konsequente Herzdruckmassage und der frühzeitige Einsatz eines Defi\nillators über Leben und Tod. Genau hier setzt der Kurs an: Die Teilnehmenden trainieren intensiv und realitätsnah die Abläufe der Reanimation und den sicheren Umgang mit einem AED. Der Kurs ist auf maximal 15 Teilnehmerinnen und Teilnehmer begrenzt, um ausreichend Zeit für praktische Übungen und individuelle Anleitung zu gewährleisten. Vorkenntnisse sind nicht erforderlich. |   | Gebühr: kostenlos | Termin: 18. Juni 2026 | Ort: vhs-Seminarraum, Am Finkenschlag 2, 85757 Karlsfeld | Dauer: Zwei Stunden / Beginn: 19.00 |   | Leben Retten Karlsfeld e.V. - Jede Minute zählt. Jede helfende Hand auch. | Organisator   Leben Retten Karlsfeld e.V.
LOCATION:vhs-Seminarraum, Am Finkenschlag 2, 85757 Karlsfeld
UID:209611d69d9f4cbdb921f368769d6903-08e310dbf3ad8794672ec6e4fc8a2093
PRIORITY:3
END:VEVENT
END:VCALENDAR
