BEGIN:VCALENDAR
VERSION:1.0
PRODID:Open2CKalenderExportV11
BEGIN:VEVENT
DTSTAMP:20260115T133804Z
DTSTART:20260519T121300Z
DTEND:20260519T121300Z
CATEGORIES:Senioren
SUMMARY:Treffpunkt 60: Maiandacht in Maria Eich
DESCRIPTION:mit Pfarrer Haberl oder Diakon Enthofer | Beginn        14:00 h | S-Bahn und Fahrgemeinschaften | Info: Inge Reiter, T. 93635  |   |   |   |   |   |  
LOCATION:S-Bahn
UID:b04800006d1118518f1fc3c146d6ea89-d257df01b890ff793530ac7cf6b5d71d
PRIORITY:3
END:VEVENT
END:VCALENDAR
