BEGIN:VCALENDAR
VERSION:1.0
PRODID:Open2CKalenderExportV11
BEGIN:VEVENT
DTSTAMP:20251222T143537Z
DTSTART:20270109T180000Z
DTEND:20270109T180000Z
CATEGORIES:Fasching
SUMMARY:OFC Karlsfeld: Inthronisation der Karlsfelder Prinzenpaare
DESCRIPTION: | Organisator   OFC Karlsfeld
LOCATION:Bürgerhaus
UID:5aed14f6af116bcaf1dfd03ee04cb9a2-6d704a3ec19fd23c990d6d3f82ab0d49
PRIORITY:3
END:VEVENT
BEGIN:VEVENT
DTSTAMP:20251222T143621Z
DTSTART:20270124T130000Z
DTEND:20270124T130000Z
CATEGORIES:Fasching
SUMMARY:OFC Karlsfeld: 1. Kinderfaschingsball
DESCRIPTION: | Organisator   OFC Karlsfeld
LOCATION:Bürgerhaus
UID:d55e144dd1425faf434ffdcf3949e0e1-dca8381bb9c04a4d40042ed20104fc4e
PRIORITY:3
END:VEVENT
BEGIN:VEVENT
DTSTAMP:20251222T143646Z
DTSTART:20270131T130000Z
DTEND:20270131T130000Z
CATEGORIES:Fasching
SUMMARY:OFC Karlsfeld: 2. Kinderfaschingsball
DESCRIPTION: | Organisator   OFC Karlsfeld
LOCATION:Bürgerhaus
UID:789cc3f547f9af9e72db14d0ff5dd86c-95a8562b1a39095e8b69e903d5c74636
PRIORITY:3
END:VEVENT
END:VCALENDAR
