BEGIN:VCALENDAR
VERSION:1.0
PRODID:Open2CKalenderExportV11
BEGIN:VEVENT
DTSTAMP:20260413T113945Z
DTSTART:20260509T140000Z
DTEND:20260509T140000Z
CATEGORIES:Vereine
SUMMARY:JTSC Karlsfeld:  Saisonabschluss mit Glanz und Leidenschaft – Große Tanzgala am 09. Mai 2026
DESCRIPTION:Der 1. Karlsfelder JTSC lädt herzlich zur großen Tanzgala anlässlich des Saisonabschlusses am 09. Mai 2026 ins Bürgerhaus Karlsfeld ein. Einlass ist ab 14.00 Uhr. Freuen Sie sich auf ein abwechslungsreiches und mitreißendes Programm: Von unseren jüngsten Basic-Gruppen, die mit viel Freude und Engagement ihre ersten Bühnenerfahrungen sammeln, bis hin zu unseren erfahrenen Turniergruppen, die mit Präzision, Ausdruck und beeindruckender Technik begeistern.  | Die Tanzgala ist nicht nur ein Rückblick auf die vergangenen Monate, sondern auch eine Feier der Gemeinschaft, der Leidenschaft für den Tanz und der vielen gemeinsamen Erlebnisse. Familien, Freunde sowie alle Tanzbegeisterten aus der Region sind herzlich eingeladen, diesen besonderen Nachmittag mit uns zu ver\ningen. |   | Tickets sind online über www.eventfrog.de/jtsc-tanzgala ab 27. April 2026, um 20 Uhr erhältlich. |   | Lassen Sie sich von der Vielfalt der Tanzstile, der Kreativität der Choreografien und der Begeisterung unserer Tänzerinnen mitreißen und genießen Sie einen unvergesslichen Tag voller Emotionen und Bewegung. | Organisator   1. JTSC Karlsfeld
LOCATION:Bürgerhaus
UID:b8c1bf76aea7489556d1192cb073a6a9-c10e3408c08696f297a094eb8234d7e5
PRIORITY:3
END:VEVENT
END:VCALENDAR
