BEGIN:VCALENDAR
VERSION:1.0
PRODID:Open2CKalenderExportV11
BEGIN:VEVENT
DTSTAMP:20260305T151830Z
DTSTART:20260420T150000Z
DTEND:20260420T150000Z
CATEGORIES:Vorträge
SUMMARY:Wildes Karlsfeld - eine visuelle Entdeckungsreise vor der Haustür
DESCRIPTION:Wer glaubt, für spektakuläre Naturaufnahmen um die halbe Welt reisen zu müssen, wird überrascht sein: Auf Einladung des Seniorenbeirats Karlsfeld beweist der Karlsfelder Naturfotograf Michael Matziol, dass das Besondere oft direkt vor unserer Haustür liegt. In einer packenden Bildreportage zeigt er die verborgenen Schätze der Tier- und Pflanzenwelt rund um Karlsfeld. Matziol hat unzählige Stunden in der Natur ver\nacht, um den perfekten Moment einzufangen. Seine Aufnahmen zeigen nicht nur die bekannte Idylle des Karlsfelder Sees oder des Schwarzhölzls, sondern rücken auch die kleinen, oft übersehenen Details in den Fokus. „Ich möchte zeigen, dass wir in einer unglaublich lebenswerten Region wohnen. Man muss nur lernen, wieder richtig hinzusehen“, so Matziol über seine Motivation. |   | Die Veranstaltung findet statt am Montag, 20. April, um 15 Uhr im Bürgertreff Karlsfeld, Rathausstraße 65. Eine Anmeldung ist erforderlich bis spätestens 11. April telefonisch unter 08131 96625 oder per E-Mail an wkoerner@gmx.de. |   |   | Organisator   Seniorenbeirat Karlsfeld
LOCATION:Bürgertreff
UID:16482969d683e473d3827222ba326b9b-9b1e4b76cfc4b5c870398588814a3ad0
PRIORITY:3
END:VEVENT
END:VCALENDAR
