BEGIN:VCALENDAR
VERSION:1.0
PRODID:Open2CKalenderExportV11
BEGIN:VEVENT
DTSTAMP:20251201T074132Z
DTSTART:20261204T193000Z
DTEND:20261204T193000Z
CATEGORIES:Verschiedenes
SUMMARY:Musiktheaterabo 2026: Golden Voices of Gospel
DESCRIPTION:Die GOLDEN VOICES OF GOSPEL sind ein Team von professionellen Künstlern aus der amerikanischen Gospelszene unter der Leitung von Musical Direktor Reverend Dwight Robson. Mit den historischen Negro Spirituals und Gospels präsentieren sie seit über 20 Jahren die Afroamerikanische Kirchenmusik auf den Bühnen, bei Festivals und in den Kirchen Europas. Unter anderem konzertierten die GOLDEN VOICES OF GOSPEL als Chor von: Michael Jackson, Mariah Carey, Howard Carpendale, Eloy de Joung, Bonnie Tyler, Ben Zucker, Florian Silbereisen, Mireille Mathieu, Peter Kraus, André Rieu, Ross Anthony, Nana Mouskouri, Glasperlenspiel, Art Garfunkel Jr., David Hasselhoff und Helene Fischer. |   |   |   | Neu: Buchen Sie Ihr gesamtes Abo mit fünf hochkarätigen Stücken bis zum 23. November 2025. Nach der Zahlungsfrist am 23. November 2025 sind keine kompletten Abos mehr für die Saison 2026 buchbar, die Karten gehen dann ab dem 1. Dezember 2025 in den Restkartenverkauf, der ab der Saison 2026 über das Online-Ticketportal Reservix läuft. Bei Fragen wenden Sie sich bitte an das Sachgebiet Presse- und Öffentlichkeitsarbeit / Kultur unter den Telefonnummern: 08131/99-108 oder -176 oder per E-Mail an: presse@karlsfeld.de.  |   |   | Restkarten ab 1. Dezember 2025 online über das Online-Ticketportal Reservix oder telefonisch über den Reservix-Kundenservice (Tel.: 0761 888499 99, von 6 bis 22 Uhr, auch an Wochenenden und Feiertagen) buchbar!  |   | https://www.reservix.de/tickets-golden-voices-of-gospel-the-real-gospel-feeling-is-back-in-karlsfeld-buergerhaus-am-4-12-2026/e2468366?utm_medium=referral&amp;utm_source=dynamic&amp;utm_campaign=dynamic-prom-lb-o&amp;utm_content=Gemeinde%20Karlsfeld%20(29441) |   |   | Organisator   Gemeinde Karlsfeld
LOCATION:Bürgerhaus, Allacher Str. 1, 85757 Karlsfeld
UID:6cb0d2964da50e43a9607e53e25e03ce-af1aeb7e1cf451954aa7c930edd0672b
PRIORITY:3
END:VEVENT
BEGIN:VEVENT
DTSTAMP:20260414T110317Z
DTSTART:20261206T140000Z
DTEND:20261206T170000Z
CATEGORIES:Ausstellungen
SUMMARY:Heimatmuseum: Dauerausstellung
DESCRIPTION:Geschichte und Geschichten rund um Karlsfeld |   |  | Authentische Exponate seit der Gründung Karlsfelds | Torfhütte, Gerätschaften zur Mooskultivierung | Die Münchner Straße nach dem Siedlungsplan von 1802 | Aufbau von Wirtschaft und Verwaltung, der "Alte Wirt" Schule, Kirchenmodelle und religiöses Brauchtum | Herkunft bekannter Karlsfelder aus den Ost-Gebieten | Flucht und Vertreibung | Erinnerungen an die verlorene Heimat im Osten | Erste Errungenschaften nach dem 2. Weltkrieg  | Exponate aus Bad, Waschküche, Küche und Keller | Leben in den 50er-Jahren | Die Städtepartnerschaft mit Muro Lucano, Italien |  | Das Heimatmuseum Karlsfeld in der Gartenstraße 6 ist an jedem 1. und 3. Sonntag im Monat geöffnet. |   | Eintrittspreis: 2 Euro. |   | Weitere Informationen finden Sie unter www.heimatmuseum-karlsfeld.de im Internet. Besuchen Sie uns auch auf facebook.com/HeimatmuseumKarlsfeld.  | Organisator   Heimatmuseum Karlsfeld e-V.
LOCATION:Heimatmuseum im Alten Rathaus, Gartenstraße 6, 85757 Karlsfeld
UID:a8aea7acc21c2787302a30d572c0bfba-edfc11b7a7b95ef32c04e45d74640c85
PRIORITY:3
END:VEVENT
BEGIN:VEVENT
DTSTAMP:20260414T110335Z
DTSTART:20261213T140000Z
DTEND:20261213T170000Z
CATEGORIES:Ausstellungen
SUMMARY:Heimatmuseum: Dauerausstellung
DESCRIPTION:Geschichte und Geschichten rund um Karlsfeld |   |  | Authentische Exponate seit der Gründung Karlsfelds | Torfhütte, Gerätschaften zur Mooskultivierung | Die Münchner Straße nach dem Siedlungsplan von 1802 | Aufbau von Wirtschaft und Verwaltung, der "Alte Wirt" Schule, Kirchenmodelle und religiöses Brauchtum | Herkunft bekannter Karlsfelder aus den Ost-Gebieten | Flucht und Vertreibung | Erinnerungen an die verlorene Heimat im Osten | Erste Errungenschaften nach dem 2. Weltkrieg  | Exponate aus Bad, Waschküche, Küche und Keller | Leben in den 50er-Jahren | Die Städtepartnerschaft mit Muro Lucano, Italien |  | Das Heimatmuseum Karlsfeld in der Gartenstraße 6 ist an jedem 1. und 3. Sonntag im Monat geöffnet. |   | Eintrittspreis: 2 Euro. |   | Weitere Informationen finden Sie unter www.heimatmuseum-karlsfeld.de im Internet. Besuchen Sie uns auch auf facebook.com/HeimatmuseumKarlsfeld.  | Organisator   Heimatmuseum Karlsfeld e-V.
LOCATION:Heimatmuseum im Alten Rathaus, Gartenstraße 6, 85757 Karlsfeld
UID:b1c0b9b4582aa9f1a1969f680f85525f-edfc11b7a7b95ef32c04e45d74640c85
PRIORITY:3
END:VEVENT
BEGIN:VEVENT
DTSTAMP:20260414T110354Z
DTSTART:20261220T140000Z
DTEND:20261220T170000Z
CATEGORIES:Ausstellungen
SUMMARY:Heimatmuseum: Dauerausstellung
DESCRIPTION:Geschichte und Geschichten rund um Karlsfeld |   |  | Authentische Exponate seit der Gründung Karlsfelds | Torfhütte, Gerätschaften zur Mooskultivierung | Die Münchner Straße nach dem Siedlungsplan von 1802 | Aufbau von Wirtschaft und Verwaltung, der "Alte Wirt" Schule, Kirchenmodelle und religiöses Brauchtum | Herkunft bekannter Karlsfelder aus den Ost-Gebieten | Flucht und Vertreibung | Erinnerungen an die verlorene Heimat im Osten | Erste Errungenschaften nach dem 2. Weltkrieg  | Exponate aus Bad, Waschküche, Küche und Keller | Leben in den 50er-Jahren | Die Städtepartnerschaft mit Muro Lucano, Italien |  | Das Heimatmuseum Karlsfeld in der Gartenstraße 6 ist an jedem 1. und 3. Sonntag im Monat geöffnet. |   | Eintrittspreis: 2 Euro. |   | Weitere Informationen finden Sie unter www.heimatmuseum-karlsfeld.de im Internet. Besuchen Sie uns auch auf facebook.com/HeimatmuseumKarlsfeld.  | Organisator   Heimatmuseum Karlsfeld e-V.
LOCATION:Heimatmuseum im Alten Rathaus, Gartenstraße 6, 85757 Karlsfeld
UID:be2a766937642d8befcfcfc664006ae2-edfc11b7a7b95ef32c04e45d74640c85
PRIORITY:3
END:VEVENT
END:VCALENDAR
